BEGIN:VCALENDAR
VERSION:2.0
PRODID:-//Challenge Inequality - ECPv6.15.4//NONSGML v1.0//EN
CALSCALE:GREGORIAN
METHOD:PUBLISH
X-ORIGINAL-URL:https://challengeinequality.luskin.ucla.edu
X-WR-CALDESC:Events for Challenge Inequality
REFRESH-INTERVAL;VALUE=DURATION:PT1H
X-Robots-Tag:noindex
X-PUBLISHED-TTL:PT1H
BEGIN:VTIMEZONE
TZID:UTC
BEGIN:STANDARD
TZOFFSETFROM:+0000
TZOFFSETTO:+0000
TZNAME:UTC
DTSTART:20160101T000000
END:STANDARD
END:VTIMEZONE
BEGIN:VEVENT
DTSTART;TZID=UTC:20160509T163000
DTEND;TZID=UTC:20160509T190000
DTSTAMP:20260421T165247
CREATED:20160504T014317Z
LAST-MODIFIED:20160504T015837Z
UID:828-1462811400-1462820400@challengeinequality.luskin.ucla.edu
SUMMARY:Contemplating the Rise of Asian Cities: Workshop and Plenary Session
DESCRIPTION:This session invites workshop participants and interested Yale scholars and affiliates to come together for an open conversation about new directions in the study of Asian cities at Yale. The evening will include two plenary talks by distinguished scholars of Asian and global urbanism\, as well as ample time for conversation and discussion over dinner. \nPlenary speakers: \n\nAnanya Roy (University of California\, Los Angeles)\nNeil Brenner (Harvard Graduate School of Design)\n\nmoderated by Helen Siu\, K. Sivaramakrishnan\, and Erik Harms \nLearn more and/or RSVP. 
URL:https://challengeinequality.luskin.ucla.edu/event/contemplating-rise-asian-cities-workshop-plenary-session/
LOCATION:Maurice R. Greenberg Conference Center\, 391 Prospect Street\, New Haven\, CT\, 06511\, United States
END:VEVENT
END:VCALENDAR