BEGIN:VCALENDAR
VERSION:2.0
PRODID:-//Challenge Inequality - ECPv6.15.4//NONSGML v1.0//EN
CALSCALE:GREGORIAN
METHOD:PUBLISH
X-ORIGINAL-URL:https://challengeinequality.luskin.ucla.edu
X-WR-CALDESC:Events for Challenge Inequality
REFRESH-INTERVAL;VALUE=DURATION:PT1H
X-Robots-Tag:noindex
X-PUBLISHED-TTL:PT1H
BEGIN:VTIMEZONE
TZID:UTC
BEGIN:STANDARD
TZOFFSETFROM:+0000
TZOFFSETTO:+0000
TZNAME:UTC
DTSTART:20160101T000000
END:STANDARD
END:VTIMEZONE
BEGIN:VEVENT
DTSTART;TZID=UTC:20160901T173000
DTEND;TZID=UTC:20160901T190000
DTSTAMP:20260421T102132
CREATED:20160901T025136Z
LAST-MODIFIED:20160901T033653Z
UID:1020-1472751000-1472756400@challengeinequality.luskin.ucla.edu
SUMMARY:Real Talk/ Real Action: Restorative Dialogue
DESCRIPTION:UCLA Law’s Student Bar Association\, Office of Student Affairs\, Learning Environment and Diversity Committee\, and David J. Epstein Program in Public Interest Law and Policy present “Real Talk/ Real Action: Restorative Dialogue” \nCome together to discuss recent challenging events that generated a range of emotions and raise many questions. What can we do to support members of our community who are healing? How can we engage in meaningful conversation? What is your part to do? \n  \nInteractive discussion\nLight reception to follow
URL:https://challengeinequality.luskin.ucla.edu/event/real-talk-real-action-restorative-dialogue/
LOCATION:UCLA School of Law\, Room 1457\, 385 Charles E Young Dr East\, Los Angeles \, CA\, 90095\, United States
END:VEVENT
END:VCALENDAR