BEGIN:VCALENDAR
VERSION:2.0
PRODID:-//Challenge Inequality - ECPv6.15.4//NONSGML v1.0//EN
CALSCALE:GREGORIAN
METHOD:PUBLISH
X-ORIGINAL-URL:https://challengeinequality.luskin.ucla.edu
X-WR-CALDESC:Events for Challenge Inequality
REFRESH-INTERVAL;VALUE=DURATION:PT1H
X-Robots-Tag:noindex
X-PUBLISHED-TTL:PT1H
BEGIN:VTIMEZONE
TZID:UTC
BEGIN:STANDARD
TZOFFSETFROM:+0000
TZOFFSETTO:+0000
TZNAME:UTC
DTSTART:20160101T000000
END:STANDARD
END:VTIMEZONE
BEGIN:VEVENT
DTSTART;TZID=UTC:20160917T200000
DTEND;TZID=UTC:20160917T220000
DTSTAMP:20260421T084453
CREATED:20160714T023015Z
LAST-MODIFIED:20160714T023015Z
UID:956-1474142400-1474149600@challengeinequality.luskin.ucla.edu
SUMMARY:Box of Hope
DESCRIPTION:  \nVersa-Style Dance Company \n  \nVersa-Style Dance Company will present a multidisciplinary exploration of the social and political climate of today through LA street dance culture\, spoken word and live music. By choosing to perform to Motown music\, in addition to hip-hop and R&B\, this 15-member ensemble made up of dancers from all over LA\, will fuse vintage sounds with contemporary hip-hop moves.
URL:https://challengeinequality.luskin.ucla.edu/event/box-of-hope/
LOCATION:Ford Theatres\, 2580 Cahuenga Blvd. East\, Hollywood\, CA\, 90068\, United States
END:VEVENT
END:VCALENDAR