BEGIN:VCALENDAR
VERSION:2.0
PRODID:-//Challenge Inequality - ECPv6.15.4//NONSGML v1.0//EN
CALSCALE:GREGORIAN
METHOD:PUBLISH
X-WR-CALNAME:Challenge Inequality
X-ORIGINAL-URL:https://challengeinequality.luskin.ucla.edu
X-WR-CALDESC:Events for Challenge Inequality
REFRESH-INTERVAL;VALUE=DURATION:PT1H
X-Robots-Tag:noindex
X-PUBLISHED-TTL:PT1H
BEGIN:VTIMEZONE
TZID:UTC
BEGIN:STANDARD
TZOFFSETFROM:+0000
TZOFFSETTO:+0000
TZNAME:UTC
DTSTART:20160101T000000
END:STANDARD
END:VTIMEZONE
BEGIN:VEVENT
DTSTART;TZID=UTC:20161103T170000
DTEND;TZID=UTC:20161103T190000
DTSTAMP:20260420T225310
CREATED:20161011T235940Z
LAST-MODIFIED:20161012T022316Z
UID:1171-1478192400-1478199600@challengeinequality.luskin.ucla.edu
SUMMARY:A Celebration of Volunteers in Prisons and Jails
DESCRIPTION:The Voluntary Sector in Prisons- Print PDF Flyer \n \n 
URL:https://challengeinequality.luskin.ucla.edu/event/celebration-volunteers-prisons-jails/
LOCATION:Room 5391\, UCLA Luskin School of Public Affairs\, 337 Charles E. Young Drive East\, Los Angeles \, 90024\, United States
END:VEVENT
END:VCALENDAR