BEGIN:VCALENDAR
VERSION:2.0
PRODID:-//Challenge Inequality - ECPv6.15.4//NONSGML v1.0//EN
CALSCALE:GREGORIAN
METHOD:PUBLISH
X-WR-CALNAME:Challenge Inequality
X-ORIGINAL-URL:https://challengeinequality.luskin.ucla.edu
X-WR-CALDESC:Events for Challenge Inequality
REFRESH-INTERVAL;VALUE=DURATION:PT1H
X-Robots-Tag:noindex
X-PUBLISHED-TTL:PT1H
BEGIN:VTIMEZONE
TZID:UTC
BEGIN:STANDARD
TZOFFSETFROM:+0000
TZOFFSETTO:+0000
TZNAME:UTC
DTSTART:20160101T000000
END:STANDARD
END:VTIMEZONE
BEGIN:VEVENT
DTSTART;TZID=UTC:20161104T140000
DTEND;TZID=UTC:20161104T153000
DTSTAMP:20260420T225242
CREATED:20161014T031617Z
LAST-MODIFIED:20161014T031807Z
UID:1244-1478268000-1478273400@challengeinequality.luskin.ucla.edu
SUMMARY:The UCLA Political Sociology and the Global South Working Group Meeting
DESCRIPTION:We\, the UCLA Political Sociology and the Global South Working Group\, are an intellectual community of graduate students and scholars who share interests on the intersecting issues of Global South socioeconomic development and underdevelopment\, political and social movements\, labor\, and state-society relations. Focusing on the developing world is a central element for us. We worry that much of the claims made in the name of ‘general sociology’ reflect instead the rather local experiences of the Western developed world. This group has been conceived upon the conviction that studying the multiple realities of the developing world can bring new insights into different areas of sociology. The meanings\, dynamics and analysis of “politics\,” “development” or “collective agency” in the Global South require us to rethink many taken for granted paradigms and concepts. \nThis working group is open to all regardless of enrollment status. \nOur meetings take place every other Friday in Haines 279\, between 14:00-15:30 –unless otherwise specified. \nNovember 4th: William Robinson\, Professor of Sociology UCSB
URL:https://challengeinequality.luskin.ucla.edu/event/1244/
LOCATION:Haines Hall 279 Room\, 375 Portola Plaza\, Los Angeles\, CA\, 90095\, United States
END:VEVENT
END:VCALENDAR