BEGIN:VCALENDAR
VERSION:2.0
PRODID:-//Challenge Inequality - ECPv6.15.4//NONSGML v1.0//EN
CALSCALE:GREGORIAN
METHOD:PUBLISH
X-ORIGINAL-URL:https://challengeinequality.luskin.ucla.edu
X-WR-CALDESC:Events for Challenge Inequality
REFRESH-INTERVAL;VALUE=DURATION:PT1H
X-Robots-Tag:noindex
X-PUBLISHED-TTL:PT1H
BEGIN:VTIMEZONE
TZID:UTC
BEGIN:STANDARD
TZOFFSETFROM:+0000
TZOFFSETTO:+0000
TZNAME:UTC
DTSTART:20160101T000000
END:STANDARD
END:VTIMEZONE
BEGIN:VEVENT
DTSTART;TZID=UTC:20161115T180000
DTEND;TZID=UTC:20161115T193000
DTSTAMP:20260420T211725
CREATED:20160929T233958Z
LAST-MODIFIED:20161025T014729Z
UID:1139-1479232800-1479238200@challengeinequality.luskin.ucla.edu
SUMMARY:"70 Acres in Chicago" Screening
DESCRIPTION:For 70 years\, there stood a Chicago public housing community known as Cabrini Green.\nHome to thousands\, misunderstood by millions\, Cabrini Green once towered over Chicago’s most valuable neighborhoods. A looming reminder of inequality and poverty\, Cabrini’s high-rises were demolished and an African-American community cleared to make room for another social experiment: mixed-income neighborhoods. \nShot over the course of 20 years\, 70 Acres in Chicago documents this upheaval\, from the razing of the first buildings in 1995\, to the clashes in the mixed-income neighborhoods a decade later. \n70 Acres in Chicago tells the volatile story of this hotly contested patch of land\, while looking unflinchingly at race\, class\, and who has the right to live in the city. \n  \nFilmmaker: Ronit Bezalel \nFeatured Resident & Producer: Mark Pratt \nFeatured Resident: Raymond J McDonald \nwill be present during the screening.
URL:https://challengeinequality.luskin.ucla.edu/event/70-acres-chicago-screening/
LOCATION:UCLA Luskin School of Public Affairs\, Room 2355\, 337 Charles E. Young Drive East\,\, Los Angeles\, CA\, 90095-1656\, United States
END:VEVENT
END:VCALENDAR