BEGIN:VCALENDAR
VERSION:2.0
PRODID:-//Challenge Inequality - ECPv6.15.4//NONSGML v1.0//EN
CALSCALE:GREGORIAN
METHOD:PUBLISH
X-ORIGINAL-URL:https://challengeinequality.luskin.ucla.edu
X-WR-CALDESC:Events for Challenge Inequality
REFRESH-INTERVAL;VALUE=DURATION:PT1H
X-Robots-Tag:noindex
X-PUBLISHED-TTL:PT1H
BEGIN:VTIMEZONE
TZID:UTC
BEGIN:STANDARD
TZOFFSETFROM:+0000
TZOFFSETTO:+0000
TZNAME:UTC
DTSTART:20160101T000000
END:STANDARD
END:VTIMEZONE
BEGIN:VEVENT
DTSTART;TZID=UTC:20161119T080000
DTEND;TZID=UTC:20161120T170000
DTSTAMP:20260420T192443
CREATED:20161118T111949Z
LAST-MODIFIED:20161118T111949Z
UID:1347-1479542400-1479661200@challengeinequality.luskin.ucla.edu
SUMMARY:28th Annual Students of Color Conference
DESCRIPTION:The Students of Color Conference (SOCC) is UCSA’s oldest and largest conference and provides a safe space for students of color and their allies to strategize around statewide and campus-based actions. The event is free to all UCLA graduates accepted\, as the logistics will be covered by the UCLA Graduate Student Association. This year SOCC will be hosted at UC Irvine from November 19-20. Applications for this conference are due November 4th at midnight.
URL:https://challengeinequality.luskin.ucla.edu/event/28th-annual-students-color-conference/
LOCATION:UC Irvine\, A-311 W Peltason Dr\,  (Must apply through GSA to get fees waived)\, Irvine\, CA\, 92697\, United States
END:VEVENT
END:VCALENDAR