BEGIN:VCALENDAR
VERSION:2.0
PRODID:-//Challenge Inequality - ECPv6.15.4//NONSGML v1.0//EN
CALSCALE:GREGORIAN
METHOD:PUBLISH
X-ORIGINAL-URL:https://challengeinequality.luskin.ucla.edu
X-WR-CALDESC:Events for Challenge Inequality
REFRESH-INTERVAL;VALUE=DURATION:PT1H
X-Robots-Tag:noindex
X-PUBLISHED-TTL:PT1H
BEGIN:VTIMEZONE
TZID:UTC
BEGIN:STANDARD
TZOFFSETFROM:+0000
TZOFFSETTO:+0000
TZNAME:UTC
DTSTART:20160101T000000
END:STANDARD
END:VTIMEZONE
BEGIN:VEVENT
DTSTART;TZID=UTC:20161130T160000
DTEND;TZID=UTC:20161130T190000
DTSTAMP:20260420T192455
CREATED:20161122T013228Z
LAST-MODIFIED:20161122T013228Z
UID:1354-1480521600-1480532400@challengeinequality.luskin.ucla.edu
SUMMARY:Slamming Hunger
DESCRIPTION:A slam-style evening of storytelling on the theme of “slamming hunger.” Performed by members of Professor Dan Froot’s course dedicated to decreasing the stigma of food insecurity on campus. \nKaufman Hall is located in North Campus off of Sunset Boulevard.\nParking is available in lot 4.
URL:https://challengeinequality.luskin.ucla.edu/event/slamming-hunger/
LOCATION:Glorya Kaufman Hall\, Amber Dance Studio\, 120 Westwood Plaza\, Los Angeles \, CA\, 90095\, United States
END:VEVENT
BEGIN:VEVENT
DTSTART;TZID=UTC:20161130T170000
DTEND;TZID=UTC:20161130T190000
DTSTAMP:20260420T192455
CREATED:20161129T025211Z
LAST-MODIFIED:20161201T054739Z
UID:1360-1480525200-1480532400@challengeinequality.luskin.ucla.edu
SUMMARY:Resistance Against Violence through Education (RAVE)
DESCRIPTION:  \n \nPlease join us for the first post-election teaching rave organized by the faculty group\, RAVE (Resistance Against Violence Through Education)\, and co-sponsored by LGBTQ Studies\, the Center for the Study of Women\, and the Institute on Inequality and Democracy at UCLA Luskin. \n \n\nPlease click uc-csu-ccc-daca-letter-final-11-29-16-00000002 to read the letter sent by Janet Napolitano (President\, University of California)\, Timothy White (Chancellor\, California State University)\, and Eloy Ortiz Oakley (Chancellor-Designate\, California Community College) to President-Elect Donald Trump on November 29\, 2016. And here is the latest New York Times op-ed piece from Janet Napolitano on immigrant and DACA students.\n\n\nProfessor Ananya Roy published the following article in Society & Space.\n\n\nProfessor Laure Murat published the following article in the French newspaper Libération to reflect\, among other things\, on RAVE’s resistance against a Trump regime. For the English translation\, please click i-join-the-resistance.\n\n\n“As educators\, we affirm UCLA’s commitment to fostering an environment that is inclusive and respectful of diversity in all its forms – in our classrooms\, our offices\, on campus and beyond. We are prepared to defend and support our campus community as we protect our democracy.” Read the petition here.
URL:https://challengeinequality.luskin.ucla.edu/event/rave/
LOCATION:Moore Hall Room 100\, 457 Portola Plaza\, Los Angeles \, CA\, 90095\, United States
END:VEVENT
END:VCALENDAR