BEGIN:VCALENDAR
VERSION:2.0
PRODID:-//Challenge Inequality - ECPv6.15.4//NONSGML v1.0//EN
CALSCALE:GREGORIAN
METHOD:PUBLISH
X-WR-CALNAME:Challenge Inequality
X-ORIGINAL-URL:https://challengeinequality.luskin.ucla.edu
X-WR-CALDESC:Events for Challenge Inequality
REFRESH-INTERVAL;VALUE=DURATION:PT1H
X-Robots-Tag:noindex
X-PUBLISHED-TTL:PT1H
BEGIN:VTIMEZONE
TZID:UTC
BEGIN:STANDARD
TZOFFSETFROM:+0000
TZOFFSETTO:+0000
TZNAME:UTC
DTSTART:20170101T000000
END:STANDARD
END:VTIMEZONE
BEGIN:VEVENT
DTSTART;TZID=UTC:20170112T163000
DTEND;TZID=UTC:20170112T190000
DTSTAMP:20260420T160848
CREATED:20170105T073745Z
LAST-MODIFIED:20170114T055133Z
UID:1427-1484238600-1484247600@challengeinequality.luskin.ucla.edu
SUMMARY:Welcome Reception: 2017 UCLA Activist-in-Residence Fellows
DESCRIPTION:Funmilola Fagbamila \nLisa Hasegawa \n  \n  \n  \n  \n  \n  \n  \n  \n  \n  \nWith a shared commitment to advance democracy through research and alliances with civil rights organizations and progressive social movements\, the UCLA Asian American Studies Center and the Institute on Inequality and Democracy at UCLA Luskin have partnered to pilot a UCLA Activist-in-Residence Program. We are pleased to announce that Funmilola Fagbamila and Lisa Hasegawa are the inaugural 2017 Activist Fellows. They will be in residence on the UCLA campus during Winter Quarter: January 4–March 31\, 2017. \nA welcome reception for the two activist fellows will be held on January 12\, 2017\, at the Luskin Commons. Please RSVP at: Eventbrite \nRead the Luskin story: An Academic Space for Activists \nCheck out the photos from the reception: here
URL:https://challengeinequality.luskin.ucla.edu/event/welcome-reception-2017-ucla-activist-residence-fellows/
LOCATION:UCLA Luskin School of Public Affairs\, 3rd Floor Commons 3383\, 337 Charles E. Young Drive East\, Los Angeles\, CA\, 90095-1656\, United States
END:VEVENT
END:VCALENDAR