BEGIN:VCALENDAR
VERSION:2.0
PRODID:-//Challenge Inequality - ECPv6.15.4//NONSGML v1.0//EN
CALSCALE:GREGORIAN
METHOD:PUBLISH
X-ORIGINAL-URL:https://challengeinequality.luskin.ucla.edu
X-WR-CALDESC:Events for Challenge Inequality
REFRESH-INTERVAL;VALUE=DURATION:PT1H
X-Robots-Tag:noindex
X-PUBLISHED-TTL:PT1H
BEGIN:VTIMEZONE
TZID:UTC
BEGIN:STANDARD
TZOFFSETFROM:+0000
TZOFFSETTO:+0000
TZNAME:UTC
DTSTART:20170101T000000
END:STANDARD
END:VTIMEZONE
BEGIN:VEVENT
DTSTART;TZID=UTC:20170118T170000
DTEND;TZID=UTC:20170118T193000
DTSTAMP:20260420T160909
CREATED:20170105T032156Z
LAST-MODIFIED:20170119T032701Z
UID:1414-1484758800-1484767800@challengeinequality.luskin.ucla.edu
SUMMARY:#J18: From the Frontlines of Justice
DESCRIPTION:The Institute on Inequality and Democracy at UCLA Luskin invites you to join us at “From the Frontlines of Justice” at Ackerman Ballroom\, UCLA\, 5–7:30 p.m.\, on January 18\, 2017. \nOn the evening of #J18\, we will gather at UCLA to celebrate ongoing struggles for social justice and to affirm their urgent relevance in the face of this current national and global moment. \nTo inspire and guide us will be the following speakers and artists: \nPatrisse Cullors\, Co-Founder of #BLACKLIVESMATTER\, Founder & Board Member of Dignity and Power Now\, UCLA Alumna \nJeff Chang\, Author of “We Gon’ Be Alright: Notes on Race and Resegregation” and Executive Director\, the Institute for Diversity in the Arts\, Stanford University \nErika L. Sánchez\, Author of poetry collection “Lessons on Expulsion” and the novel “I Am Not Your Perfect Mexican Daughter” \nPeter Sellars\, Distinguished professor in World Arts and Cultures/Dance\, UCLA; opera\, theater and festival director \nIlse Escobar\, Migrant\, muxer\, and activist born in Mexico and organizer in Los Angeles \nBryonn Bain\, Artist/activist\, prison abolitionist professor developing UCLA’s prison education program\, creator of “Lyrics From Lockdown” \nMaya Jupiter\, Hip-hop artist\, songwriter\, co-founder of Artivist Entertainment \nWe hope to see you at Ackerman Ballroom on the evening of January 18. We also invite you to attend other #J18 events and classrooms throughout the day or to organize one that day or on another date. If you do\, please register your program here so that we may create a record of our collective efforts. \nDownloadable Flyer  \nCheck out our Facebook Event and invite friends. \nShare your #J18 activity here: #J18 Event Registration \nTo receive email updates related to TeachOrganizeResist news\, events\, and opportunities to collaborate: SIGN UP HERE \n 
URL:https://challengeinequality.luskin.ucla.edu/event/j18-frontlines-justice/
LOCATION:UCLA Ackerman Ballroom\, 308 Westwood Plaza\, Los Angeles \, CA\, 90095\, United States
END:VEVENT
END:VCALENDAR