BEGIN:VCALENDAR
VERSION:2.0
PRODID:-//Challenge Inequality - ECPv6.15.4//NONSGML v1.0//EN
CALSCALE:GREGORIAN
METHOD:PUBLISH
X-WR-CALNAME:Challenge Inequality
X-ORIGINAL-URL:https://challengeinequality.luskin.ucla.edu
X-WR-CALDESC:Events for Challenge Inequality
REFRESH-INTERVAL;VALUE=DURATION:PT1H
X-Robots-Tag:noindex
X-PUBLISHED-TTL:PT1H
BEGIN:VTIMEZONE
TZID:UTC
BEGIN:STANDARD
TZOFFSETFROM:+0000
TZOFFSETTO:+0000
TZNAME:UTC
DTSTART:20170101T000000
END:STANDARD
END:VTIMEZONE
BEGIN:VEVENT
DTSTART;TZID=UTC:20170128T200000
DTEND;TZID=UTC:20170128T210000
DTSTAMP:20260420T160854
CREATED:20170126T035522Z
LAST-MODIFIED:20170126T035522Z
UID:1578-1485633600-1485637200@challengeinequality.luskin.ucla.edu
SUMMARY:Lyrics From Lockdown
DESCRIPTION:Lyrics From Lockdown : One Man. One Mic. 40 Characters. \nTwo unbelievable true stories of wrongful imprisonment told through Hip Hop\, Spoken Word\, Blues\, Comedy\, Calypso and Classical Music \nWritten and performed by Bryonn Bain \nDirected by Gina Belafonte \nPreviews: January 26—February 4 \nProductions: February 8–February 25 \nEvery Thursday\, Friday\, Saturday
URL:https://challengeinequality.luskin.ucla.edu/event/lyrics-lockdown-2/
LOCATION:The Ivy Substation\, 9070 Venice Blvd.\, Culver City\, CA\, 90232\, United States
END:VEVENT
END:VCALENDAR