BEGIN:VCALENDAR
VERSION:2.0
PRODID:-//Challenge Inequality - ECPv6.15.4//NONSGML v1.0//EN
CALSCALE:GREGORIAN
METHOD:PUBLISH
X-ORIGINAL-URL:https://challengeinequality.luskin.ucla.edu
X-WR-CALDESC:Events for Challenge Inequality
REFRESH-INTERVAL;VALUE=DURATION:PT1H
X-Robots-Tag:noindex
X-PUBLISHED-TTL:PT1H
BEGIN:VTIMEZONE
TZID:UTC
BEGIN:STANDARD
TZOFFSETFROM:+0000
TZOFFSETTO:+0000
TZNAME:UTC
DTSTART:20170101T000000
END:STANDARD
END:VTIMEZONE
BEGIN:VEVENT
DTSTART;TZID=UTC:20170215T160000
DTEND;TZID=UTC:20170215T180000
DTSTAMP:20260420T124100
CREATED:20170201T064610Z
LAST-MODIFIED:20170202T070504Z
UID:1603-1487174400-1487181600@challengeinequality.luskin.ucla.edu
SUMMARY:This Is What Resistance Looks Like
DESCRIPTION:We invite you to join us at This Is What Resistance Looks Like on February 15\, 2017 at 2355 Luskin School of Public Affairs\, UCLA\, 4:00 p.m. \nGuest lecture featuring: \nJUDITH BUTLER \nMaxine Elliot Professor in the Department of Comparative Literature and the Program of Critical Theory at the University of California\, Berkeley \nWe hope to see you at 2355 Luskin School of Public Affairs on February 15 \n\nAbout RAVE: \nRAVE (Resistance Against Violence Through Education) is a faculty group dedicated to mobilizing the power of knowledge and critical analysis to challenge the normalization of the politics\, language\, and actions of Donald Trump’s presidency. We pledge to take responsibility for\, support\, and defend vigorously all vulnerable members of our communities who were deliberately targeted in the lead up to the election of Donald Trump\, and who are now victims of hate in its wake—members of the community who are undocumented\, victims of sexual assault\, people of color\, LGBTQ people\, Muslims and other religious minorities\, immigrants\, the disabled\, and women. We will not silently bear witness but will fight back by producing knowledge\, constructing alliances\, and building system-wide coalitions across the University of California.
URL:https://challengeinequality.luskin.ucla.edu/event/resistance-looks-like/
LOCATION:UCLA Luskin School of Public Affairs\, Room 2355\, 337 Charles E. Young Drive East\,\, Los Angeles\, CA\, 90095-1656\, United States
END:VEVENT
END:VCALENDAR