BEGIN:VCALENDAR
VERSION:2.0
PRODID:-//Challenge Inequality - ECPv6.15.4//NONSGML v1.0//EN
CALSCALE:GREGORIAN
METHOD:PUBLISH
X-WR-CALNAME:Challenge Inequality
X-ORIGINAL-URL:https://challengeinequality.luskin.ucla.edu
X-WR-CALDESC:Events for Challenge Inequality
REFRESH-INTERVAL;VALUE=DURATION:PT1H
X-Robots-Tag:noindex
X-PUBLISHED-TTL:PT1H
BEGIN:VTIMEZONE
TZID:America/Los_Angeles
BEGIN:DAYLIGHT
TZOFFSETFROM:-0800
TZOFFSETTO:-0700
TZNAME:PDT
DTSTART:20170312T100000
END:DAYLIGHT
BEGIN:STANDARD
TZOFFSETFROM:-0700
TZOFFSETTO:-0800
TZNAME:PST
DTSTART:20171105T090000
END:STANDARD
END:VTIMEZONE
BEGIN:VEVENT
DTSTART;TZID=America/Los_Angeles:20170223T160000
DTEND;TZID=America/Los_Angeles:20170223T180000
DTSTAMP:20260420T142112
CREATED:20170221T175255Z
LAST-MODIFIED:20170221T175255Z
UID:1689-1487865600-1487872800@challengeinequality.luskin.ucla.edu
SUMMARY:Day of Remembrance 75th Anniversary: Executive Orders Disrupting Lives
DESCRIPTION:Executive Orders: Disrupting Lives Then (9066) and Now (13769)\n\nJoin us to mark the passage of 75 years since the signing of executive order 9066\, the action by President Roosevelt that led to the incarceration of over 120\,000 Japanese Americans during World War II. \n75 years later\,  the importance of remembering this day in American history has never been more critical.  With the signing of executive order 13769 on January 27\, 2017 targeting Muslims in the name of “Protecting the Nation From Foreign Terrorist Entry Into the United States\,” Japanese Americans and civil rights activists responded enmasse showing up to protest at airports across the country when reports surfaced of people being detained or denied entry.  While resistance today is strong\, fear and uncertainty is affecting daily life and family decisions\, much like 1942. \nCome hear from activists and filmmakers about what is happening today to resist and what can be learned from events of 75 years ago. \nSpeakers:\nSasha W.\, National Queer Asian Pacific Islander Alliance\, \nTaz Ahmed – 18MR\, #GoodMuslimBadMuslim podcast\, \nTani Ikeda\, imMEDIAte Justice \nModerator:\nLisa Hasegawa\, Asian American Studies Center Activist in Residence \nProgram will feature Nikkei Democracy Project Videos–A rapid response series of short videos that will use the power of the Japanese American story to challenge the alarming rise of anti-Muslim sentiment and threats to civil liberties and information and previews from other documentaries in the making. \nDownloadable Flyer
URL:https://challengeinequality.luskin.ucla.edu/event/1689/
LOCATION:UCLA Luskin School of Public Affairs\, Room 2355\, 337 Charles E. Young Drive East\,\, Los Angeles\, CA\, 90095-1656\, United States
END:VEVENT
END:VCALENDAR