BEGIN:VCALENDAR
VERSION:2.0
PRODID:-//Challenge Inequality - ECPv6.15.4//NONSGML v1.0//EN
CALSCALE:GREGORIAN
METHOD:PUBLISH
X-ORIGINAL-URL:https://challengeinequality.luskin.ucla.edu
X-WR-CALDESC:Events for Challenge Inequality
REFRESH-INTERVAL;VALUE=DURATION:PT1H
X-Robots-Tag:noindex
X-PUBLISHED-TTL:PT1H
BEGIN:VTIMEZONE
TZID:America/Los_Angeles
BEGIN:DAYLIGHT
TZOFFSETFROM:-0800
TZOFFSETTO:-0700
TZNAME:PDT
DTSTART:20170312T100000
END:DAYLIGHT
BEGIN:STANDARD
TZOFFSETFROM:-0700
TZOFFSETTO:-0800
TZNAME:PST
DTSTART:20171105T090000
END:STANDARD
END:VTIMEZONE
BEGIN:VEVENT
DTSTART;TZID=America/Los_Angeles:20170328T193000
DTEND;TZID=America/Los_Angeles:20170328T213000
DTSTAMP:20260420T093649
CREATED:20170322T230044Z
LAST-MODIFIED:20170322T230044Z
UID:1967-1490729400-1490736600@challengeinequality.luskin.ucla.edu
SUMMARY:Say Her Name: An Evening of Arts and Action
DESCRIPTION:The #SayHerName movement honors the lives of black women and girls killed by police. Each act of this powerful performance lifts up the voices and stories of women and girls of color through spoken word\, song\, and dance. Featuring family members of the victims of police violence\, the program pays respect to the lives of their loved ones by encouraging us to say their names out loud. \nCurated by Abby Dobson\, artist-in-residence at the African American Policy Forum. \nThis program is part of the Hammer’s Bureau of Feminism initiative. WATCH LIVE\, the event will be live streamed. \nParking: Under the museum\, $6 flat rate after 6 p.m. Cash only.
URL:https://challengeinequality.luskin.ucla.edu/event/say-name-evening-arts-action/
LOCATION:UCLA Hammer Museum – Billy Wilder Theater\, 10899 Wilshire Blvd\, Los Angeles\, CA\, 90024\, United States
END:VEVENT
END:VCALENDAR