BEGIN:VCALENDAR
VERSION:2.0
PRODID:-//Challenge Inequality - ECPv6.15.4//NONSGML v1.0//EN
CALSCALE:GREGORIAN
METHOD:PUBLISH
X-WR-CALNAME:Challenge Inequality
X-ORIGINAL-URL:https://challengeinequality.luskin.ucla.edu
X-WR-CALDESC:Events for Challenge Inequality
REFRESH-INTERVAL;VALUE=DURATION:PT1H
X-Robots-Tag:noindex
X-PUBLISHED-TTL:PT1H
BEGIN:VTIMEZONE
TZID:America/Los_Angeles
BEGIN:DAYLIGHT
TZOFFSETFROM:-0800
TZOFFSETTO:-0700
TZNAME:PDT
DTSTART:20170312T100000
END:DAYLIGHT
BEGIN:STANDARD
TZOFFSETFROM:-0700
TZOFFSETTO:-0800
TZNAME:PST
DTSTART:20171105T090000
END:STANDARD
END:VTIMEZONE
BEGIN:VEVENT
DTSTART;TZID=America/Los_Angeles:20170411T170000
DTEND;TZID=America/Los_Angeles:20170411T190000
DTSTAMP:20260420T093502
CREATED:20170410T190232Z
LAST-MODIFIED:20170410T190344Z
UID:2069-1491930000-1491937200@challengeinequality.luskin.ucla.edu
SUMMARY:What is Governed and Not Governed in Large Metropolis: Insights from Paris and Mexico
DESCRIPTION:
URL:https://challengeinequality.luskin.ucla.edu/event/governed-not-governed-large-metropolis-insights-paris-mexico/
LOCATION:UCLA Luskin School of Public Affairs\, Room 5391\, 337 Charles E. Young Drive East\, Los Angeles\, CA\, 90095\, United States
ATTACH;FMTTYPE=image/jpeg:https://challengeinequality.luskin.ucla.edu/wp-content/uploads/sites/16/2017/04/What-is-Governed.jpg
END:VEVENT
BEGIN:VEVENT
DTSTART;TZID=America/Los_Angeles:20170411T173000
DTEND;TZID=America/Los_Angeles:20170411T200000
DTSTAMP:20260420T093502
CREATED:20170322T212249Z
LAST-MODIFIED:20170322T215122Z
UID:1949-1491931800-1491940800@challengeinequality.luskin.ucla.edu
SUMMARY:UCLA’s Role in Workers’ Lives Today: A Celebration of Over 70 Years of Research\, Training & Service
DESCRIPTION:The UCLA Institute for Research on Labor and Employment presents\n“A Celebration of Over 70 Years”\nfeaturing \nMaria Elena Durazo\nVice-Chair\, Democratic National Committee\, General Vice President for Immigration\, Civil Rights\, and Diversity\, UNITE HERE \nRobin D. G. Kelley\nProfessor and Gary B. Nash Endowed Chair in U.S. History\, UCLA \nAbel Valenzuela\nDirector\, UCLA Institute for Research on Labor and Employment \nNow more than ever\, in this divided political era\, higher education institutions like UCLA have an important role to play in upholding workers’ rights. Universities are where rigorous data-driven research happens on pressing economic\, workplace\, and political issues. They are where students develop research and critical thinking skills and engage directly in the cities where they live. \nFor over 70 years\, the Institute for Research on Labor and Employment has conducted timely and impactful research on labor markets and how work impacts workers and their families. As home to the UCLA Labor Center\, the Labor Occupational Safety and Health Program (LOSH)\, and Human Resources Roundtable (HARRT)\, IRLE has been at the forefront of shifting the conversation about work in Los Angeles and nationwide.
URL:https://challengeinequality.luskin.ucla.edu/event/uclas-role-in-workers-lives-today/
LOCATION:UCLA Meyer & Renee Luskin Conference Center\, 425 Westwood Plaza \, Los Angeles\, CA\, 90095\, United States
ATTACH;FMTTYPE=image/png:https://challengeinequality.luskin.ucla.edu/wp-content/uploads/sites/16/2017/03/UCLA-Institute-for-Research-on-Labor-and-Employment-e1490218792945.png
END:VEVENT
END:VCALENDAR