BEGIN:VCALENDAR
VERSION:2.0
PRODID:-//Challenge Inequality - ECPv6.15.4//NONSGML v1.0//EN
CALSCALE:GREGORIAN
METHOD:PUBLISH
X-WR-CALNAME:Challenge Inequality
X-ORIGINAL-URL:https://challengeinequality.luskin.ucla.edu
X-WR-CALDESC:Events for Challenge Inequality
REFRESH-INTERVAL;VALUE=DURATION:PT1H
X-Robots-Tag:noindex
X-PUBLISHED-TTL:PT1H
BEGIN:VTIMEZONE
TZID:America/Los_Angeles
BEGIN:DAYLIGHT
TZOFFSETFROM:-0800
TZOFFSETTO:-0700
TZNAME:PDT
DTSTART:20170312T100000
END:DAYLIGHT
BEGIN:STANDARD
TZOFFSETFROM:-0700
TZOFFSETTO:-0800
TZNAME:PST
DTSTART:20171105T090000
END:STANDARD
END:VTIMEZONE
BEGIN:VEVENT
DTSTART;TZID=America/Los_Angeles:20170415T080000
DTEND;TZID=America/Los_Angeles:20170415T160000
DTSTAMP:20260420T142115
CREATED:20170410T210019Z
LAST-MODIFIED:20170410T211042Z
UID:2077-1492243200-1492272000@challengeinequality.luskin.ucla.edu
SUMMARY:UCLA Bruin Day
DESCRIPTION:This year’s Bruin Day for freshmen will be Saturday\, April 15\, from 8 a.m. to 4 p.m.\, and for transfer students\, Saturday\, May 13\, from 8 a.m. to 3 p.m. The UCLA community will showcase the university’s top-ranked academic programs and rich\, diverse campus life as visitors experience the spirit of true Bruin optimism. Learn more about the plans for the days at bruinday.ucla.edu.
URL:https://challengeinequality.luskin.ucla.edu/event/bruin-day/
LOCATION:UCLA\, Los Angeles\, CA\, 90095-1656\, United States
ATTACH;FMTTYPE=image/png:https://challengeinequality.luskin.ucla.edu/wp-content/uploads/sites/16/2017/04/Bruin-Day-2017.png
END:VEVENT
END:VCALENDAR