BEGIN:VCALENDAR
VERSION:2.0
PRODID:-//Challenge Inequality - ECPv6.15.4//NONSGML v1.0//EN
CALSCALE:GREGORIAN
METHOD:PUBLISH
X-ORIGINAL-URL:https://challengeinequality.luskin.ucla.edu
X-WR-CALDESC:Events for Challenge Inequality
REFRESH-INTERVAL;VALUE=DURATION:PT1H
X-Robots-Tag:noindex
X-PUBLISHED-TTL:PT1H
BEGIN:VTIMEZONE
TZID:America/Los_Angeles
BEGIN:DAYLIGHT
TZOFFSETFROM:-0800
TZOFFSETTO:-0700
TZNAME:PDT
DTSTART:20170312T100000
END:DAYLIGHT
BEGIN:STANDARD
TZOFFSETFROM:-0700
TZOFFSETTO:-0800
TZNAME:PST
DTSTART:20171105T090000
END:STANDARD
END:VTIMEZONE
BEGIN:VEVENT
DTSTART;TZID=America/Los_Angeles:20170428T110000
DTEND;TZID=America/Los_Angeles:20170430T150000
DTSTAMP:20260420T093553
CREATED:20170410T225548Z
LAST-MODIFIED:20170410T225548Z
UID:2085-1493377200-1493564400@challengeinequality.luskin.ucla.edu
SUMMARY:Flash Point 2017: Twenty-Five Years After the 1992 Los Angeles Uprising
DESCRIPTION:Part of the Meyer and Renee Luskin Lecture Series\nSince April 29\, 1992\, the city of Los Angeles has not been the same\, with racial tension peaking and riots sparking across the city making it clear that drastic change was being demanded in the relationship between police officers and racial minorities. Twenty-five years after the LA Uprising\, there is still a question of the treatment of people of color and the socio-political factors in Los Angeles. \nAs our city continues to navigate modern activism\, it is crucial to reflect on the history of political and social organizing that has created the Los Angeles of today. Join us as we utilize art and media to examine the socio-political factors that provoked the 1992 LA Uprising and its impact in the racial and economic climate in LA and across the US today. \nThe events will include two panels featuring a discussion of the evolution of community organizing as well as the role media\, particularly film\, has played in creating and reflecting social change. There will be a gallery displaying a variety of art inspired by the Uprising and a follow-up discussion with the artists. These events will be a co-program with the Los Angeles Asian Pacific Film Festival. \nRegister Here \n*Registration is required\, but does not guarantee seating. Seating is first come\, first served. Early arrival is suggested.* \nFriday\, April 28\n11 a.m.–5:15 p.m. Sa-I-Gu: The Los Angeles Uprisings 25 Years Later – Witnessing the Past\, Envisioning our Future\nThe UCLA Office of Equity\, Diversity and Inclusion will be hosting this day of panels\, Keynote Address\, and a CrossCheck Live to examine this historic event from multiple perspectives including community retrospectives\, contemporary analyses\, and forward-thinking dialogue that contemplates the future of Los Angeles. \nLocation: Luskin Conference Center\, 425 Westwood Plaza\, Los Angeles\, CA 90095 \nRSVP \n——————————————— \nFriday–Sunday\, April 28–30\nArt exhibit with work inspired by the 1992 L.A. Uprising\nFriday 4 p.m.–7 p.m.\nSaturday 11 a.m.–7 p.m.\nSunday 11 a.m.–4 p.m. \nLocation: Little Tokyo Community Place\, VIDA\, 249 South Los Angeles Street\, Los Angeles\, CA \n——————————————— \nSaturday\, April 29\n2–4 p.m. Screening of “Wet Sand: Voices from LA” Followed by a Panel\nThe documentary Wet Sands: Voices from LA by filmmaker Dai Sil Kim-Gibson explores the aftermath of the Uprising through a Korean American perspective. It will be followed by a panel on the evolution of community organizing since the Uprisings.\n \n  \n  \n  \n  \n  \n  \n  \n  \n  \nPanelists: \nAbel Valenzuela – Professor of Chicano/a Studies (moderator) \nDai Sil Kim-Gibson – Independent Filmmaker and Writer \nCharles Burnett – Director\, Producer\, Writer\, Editor\, Actor\, Photographer\, and Cinematographer \nFunmilola Fagbamila – Adjunct Professor of Pan-African Studies at Cal State Los Angeles\, Scholar\, Activist\, Playwright\, and Artist \nAlison de la Cruz – Director of Performing Arts and Community Engagement at the Japanese American Cultural and Community Center \nTani Ikeda – Filmmaker\, Executive Director of imMEDIAte Justice \nRobin D.G. Kelley – Professor of US History at UCLA \nLocation: JANM\, National Center for the Preservation of Democracy\, Tateuchi Forum\, 111 North Central Ave\, Los Angeles\, CA 90012 \n4:30–6 p.m. Panel on Media and Social Change\nFor better or for worse\, our community vision and self-image has been shaped by — and in some unfortunate instances\, tainted — by the way communities of color have been portrayed in mass media and popular entertainment. In this special conversation we will assess whether progressive change can be enacted by a paradigm shift in how we are portrayed onscreen\, in print\, and in other forms of commercial and independently-produced communication. \nPanelists: \nPhil Yu – Angry Asian Man\, Blogger (moderator) \nJustin Chon – Independent Director\, Writer\, Actor \nRenee Tajima-Pena – Filmmaker \nAnanya Roy – Professor and Inaugural Director of the Institute of Inequality and Democracy at UCLA Luskin \nGay Theresa Johnson – Associate Professor of Chicano/a Studies \nJenny Yang – Writer\, Comedian \nLocation: Japanese American National Museum\, Aratani Central Hall\, 100 North Central Ave\, Los Angeles\, CA 90012 \n8–10 p.m. Screening Followed by Q&A\nPresented by UCLA Luskin School of Public Affairs\, GOOK is a film set during the LA Uprising that explores families and relationships between Korean and African American communities. It will be followed by a Q&A with the filmmakers. \nBuy Tickets \nLocation: Japanese American National Museum\, Aratani Theatre\, 100 North Central Ave\, Los Angeles\, CA 90012 \nParking: Aiso Street Parking Garage. \n——————————————— \nSunday\, April 30\n2–3 p.m. Artist talk\nPanelists: \nGrace Misoe Lee – Graphic Artist \nPatrick Martinez – Artist \nGrace Lee – Independent Producer\, Director\, and Writer \nLocation: Little Tokyo Community Place\, VIDA\, 249 South Los Angeles Street\, Los Angeles\, CA \n——————————————— \nClick here for more information on films\, artists\, panels and panelists. \nMany events are free with RSVP. \n{Registration is required\, but does not guarantee seating. Seating is first-come\, first-served. Early arrival is suggested.} \n  \nPresented by The UCLA Luskin School of Public Affairs as part of the Meyer and Renee Luskin Lecture Series. \n  \nIn partnership with Los Angeles Asian Pacific Film Festival\, Institute on Inequality and Democracy at UCLA Luskin\, UCLA Asian American Studies Center\, UCLA Center for EthnoCommunications\, UCLA César E. Chávez Department of Chicana and Chicano Studies\, UCLA Institute of American Cultures\, UCLA Office of Equity\, Diversity and Inclusion\, Ralph J. Bunche Center for African American Studies and Visual Communications.\n \nRSVP BY 4/21/17
URL:https://challengeinequality.luskin.ucla.edu/event/25-years-after-la-uprising/
LOCATION:UCLA Meyer & Renee Luskin Conference Center\, 425 Westwood Plaza \, Los Angeles\, CA\, 90095\, United States
ATTACH;FMTTYPE=image/png:https://challengeinequality.luskin.ucla.edu/wp-content/uploads/sites/16/2017/04/LA-Uprising.png
END:VEVENT
END:VCALENDAR