BEGIN:VCALENDAR
VERSION:2.0
PRODID:-//Challenge Inequality - ECPv6.15.4//NONSGML v1.0//EN
CALSCALE:GREGORIAN
METHOD:PUBLISH
X-WR-CALNAME:Challenge Inequality
X-ORIGINAL-URL:https://challengeinequality.luskin.ucla.edu
X-WR-CALDESC:Events for Challenge Inequality
REFRESH-INTERVAL;VALUE=DURATION:PT1H
X-Robots-Tag:noindex
X-PUBLISHED-TTL:PT1H
BEGIN:VTIMEZONE
TZID:America/Los_Angeles
BEGIN:DAYLIGHT
TZOFFSETFROM:-0800
TZOFFSETTO:-0700
TZNAME:PDT
DTSTART:20170312T100000
END:DAYLIGHT
BEGIN:STANDARD
TZOFFSETFROM:-0700
TZOFFSETTO:-0800
TZNAME:PST
DTSTART:20171105T090000
END:STANDARD
END:VTIMEZONE
BEGIN:VEVENT
DTSTART;TZID=America/Los_Angeles:20170510T183000
DTEND;TZID=America/Los_Angeles:20170510T203000
DTSTAMP:20260420T111146
CREATED:20170420T174336Z
LAST-MODIFIED:20170420T174336Z
UID:2183-1494441000-1494448200@challengeinequality.luskin.ucla.edu
SUMMARY:Digital Tools for Resistance
DESCRIPTION:Is it still possible to resist? Snowden warned that the surveillance state had outgrown its legal jurisdiction and ethical mandate. While the public demanded changes to internet policy\, few fully grasped the new capacities of our government. Leak after leak illustrates the pervasiveness of spying and data collection on our everyday lives. Left with our devices\, we passively accept that our phones and computers tether us to this social surveillance dragnet. But\, what else can we do? \nJoin us for a workshop on Digital Tools for Resistance\, where we will discuss with representatives from ACLU SoCal and the Electronic Frontier Foundation the paradoxes of online organizing and the possibilities of networked activism. We will also demonstrate how to install and use Signal\, a free app that protects your privacy by encrypting your messages automatically. \nRSVP HERE \nWednesday\, May 10th\, 2017  \nReception | 6:30 p.m.\nPanel Conversations | 7:00 p.m.\nTech Demo: Signal | 8:06 p.m. \nWhere: \nDeCafé\, Perlof Hall\nUCLA Architecture and Urban Design\nLos Angeles\, California 90095 \nOn-site parking available for $12 in Parking Lot 2 (P2)\nTransit: Big Blue Bus\, Culver City Bus\, Metro \nAdditional Information \nEntrance is free and open to the public. However\, please note seating is limited and R.S.V.P. is required for admittance. Complimentary light refreshments will be available. For more information\, contact us at events@futurizex.ucla.edu or at (310) 794-4461.
URL:https://challengeinequality.luskin.ucla.edu/event/digital-tools-resistance/
LOCATION:DeCafé\, Perlof Hall\, 365 Portola Plaza\, Los Angeles\, CA\, 90095\, United States
ATTACH;FMTTYPE=image/jpeg:https://challengeinequality.luskin.ucla.edu/wp-content/uploads/sites/16/2017/04/FX_ToolsforResistance_SocialMedia.jpg
END:VEVENT
END:VCALENDAR