BEGIN:VCALENDAR
VERSION:2.0
PRODID:-//Challenge Inequality - ECPv6.15.4//NONSGML v1.0//EN
CALSCALE:GREGORIAN
METHOD:PUBLISH
X-ORIGINAL-URL:https://challengeinequality.luskin.ucla.edu
X-WR-CALDESC:Events for Challenge Inequality
REFRESH-INTERVAL;VALUE=DURATION:PT1H
X-Robots-Tag:noindex
X-PUBLISHED-TTL:PT1H
BEGIN:VTIMEZONE
TZID:America/Los_Angeles
BEGIN:DAYLIGHT
TZOFFSETFROM:-0800
TZOFFSETTO:-0700
TZNAME:PDT
DTSTART:20170312T100000
END:DAYLIGHT
BEGIN:STANDARD
TZOFFSETFROM:-0700
TZOFFSETTO:-0800
TZNAME:PST
DTSTART:20171105T090000
END:STANDARD
END:VTIMEZONE
BEGIN:VEVENT
DTSTART;TZID=America/Los_Angeles:20170517T163000
DTEND;TZID=America/Los_Angeles:20170517T190000
DTSTAMP:20260420T062248
CREATED:20170517T193227Z
LAST-MODIFIED:20170518T200027Z
UID:2651-1495038600-1495047600@challengeinequality.luskin.ucla.edu
SUMMARY:Film Screening of BaddDDD Sonia Sanchez
DESCRIPTION:The Department of African American Studies and The Ralph J. Bunche Center for African American Studies \nPresents \nThe Film Screening of \nBaddDDD Sonia Sanchez \nFollowing Discussion with Sonia Sanchez\, Reception and Book Signing to Follow \nMay 17\, Wednesday \n4:30–7 p.m. \nUCLA California Nanosytems Institute (CNSI) Auditorium \nEvent Flyer
URL:https://challengeinequality.luskin.ucla.edu/event/film-screening-of-baddddd-sonia-sanchez/
LOCATION:California NanoSystems Institute\, 570 Westwood Plaza\, Los Angeles\, CA\, 90095-1656\, United States
ATTACH;FMTTYPE=image/png:https://challengeinequality.luskin.ucla.edu/wp-content/uploads/sites/16/2017/05/Sonia-Sanchez-Flyer.png
END:VEVENT
END:VCALENDAR