BEGIN:VCALENDAR
VERSION:2.0
PRODID:-//Challenge Inequality - ECPv6.15.4//NONSGML v1.0//EN
CALSCALE:GREGORIAN
METHOD:PUBLISH
X-WR-CALNAME:Challenge Inequality
X-ORIGINAL-URL:https://challengeinequality.luskin.ucla.edu
X-WR-CALDESC:Events for Challenge Inequality
REFRESH-INTERVAL;VALUE=DURATION:PT1H
X-Robots-Tag:noindex
X-PUBLISHED-TTL:PT1H
BEGIN:VTIMEZONE
TZID:America/Los_Angeles
BEGIN:DAYLIGHT
TZOFFSETFROM:-0800
TZOFFSETTO:-0700
TZNAME:PDT
DTSTART:20170312T100000
END:DAYLIGHT
BEGIN:STANDARD
TZOFFSETFROM:-0700
TZOFFSETTO:-0800
TZNAME:PST
DTSTART:20171105T090000
END:STANDARD
END:VTIMEZONE
BEGIN:VEVENT
DTSTART;TZID=America/Los_Angeles:20170707T190000
DTEND;TZID=America/Los_Angeles:20170707T213000
DTSTAMP:20260420T044416
CREATED:20170717T021345Z
LAST-MODIFIED:20170717T022005Z
UID:5695-1499454000-1499463000@challengeinequality.luskin.ucla.edu
SUMMARY:Movie Night at the Museum
DESCRIPTION:Movie Night at the Museum on Friday\, July 7th at 7 p.m. : “In this incendiary documentary\, master filmmaker Raoul Peck envisions the book author James Baldwin never finished. The result is a radical\, up-to-the-minute 􀀀examination of race in America\, using Baldwin’s original words and a flood of rich archival material. “I Am Not Your Negro” is a journey into black history that connects the past of the Civil Rights movement to the present of #BlackLivesMatter. It is a film that questions black representation in Hollywood and beyond. And\, ultimately\, by confronting the deeper connections between the lives and assassination of these three leaders\, Baldwin and Peck have produced a work that challenges the very definition of what America stands for.” \n\nFree movie screenings\, free popcorn\, free coffee & free conversations\, every 2nd and 4th Friday of the month at the #skidrowmuseum. They screen movies about issues that are important to their Skid Row and downtown community such as gentrification\, income inequality\, and racism. \n\n250 S. Broadway\, Los Angeles\, CA 90012
URL:https://challengeinequality.luskin.ucla.edu/event/movie-night-th/
LOCATION:Los Angeles Poverty Department\, 250 S. Broadway\, Los Angeles\, CA\, 90012\, United States
ATTACH;FMTTYPE=image/jpeg:https://challengeinequality.luskin.ucla.edu/wp-content/uploads/sites/16/2017/06/LAPD-Logo.jpg
END:VEVENT
END:VCALENDAR