BEGIN:VCALENDAR
VERSION:2.0
PRODID:-//Challenge Inequality - ECPv6.15.4//NONSGML v1.0//EN
CALSCALE:GREGORIAN
METHOD:PUBLISH
X-WR-CALNAME:Challenge Inequality
X-ORIGINAL-URL:https://challengeinequality.luskin.ucla.edu
X-WR-CALDESC:Events for Challenge Inequality
REFRESH-INTERVAL;VALUE=DURATION:PT1H
X-Robots-Tag:noindex
X-PUBLISHED-TTL:PT1H
BEGIN:VTIMEZONE
TZID:America/Los_Angeles
BEGIN:DAYLIGHT
TZOFFSETFROM:-0800
TZOFFSETTO:-0700
TZNAME:PDT
DTSTART:20170312T100000
END:DAYLIGHT
BEGIN:STANDARD
TZOFFSETFROM:-0700
TZOFFSETTO:-0800
TZNAME:PST
DTSTART:20171105T090000
END:STANDARD
END:VTIMEZONE
BEGIN:VEVENT
DTSTART;TZID=America/Los_Angeles:20171115T123000
DTEND;TZID=America/Los_Angeles:20171115T140000
DTSTAMP:20260419T182322
CREATED:20171113T202944Z
LAST-MODIFIED:20171113T224401Z
UID:11105-1510749000-1510754400@challengeinequality.luskin.ucla.edu
SUMMARY:Housing\, Equity\, and Community Series - Part 1: Homelessness in Los Angeles
DESCRIPTION:Tens of thousands of Angelenos\, including families with children\, are without homes every night. Many more are on the brink of homelessness. In response to this crisis\, both the County and City of Los Angeles recently passed funding measures intended to provide new and needed services and resources. \nWe will explore the issue of homelessness\, and the response of local institutions\, from three different perspectives: a Skid Row resident and activist\, a developer of permanent supportive housing\, and UCLA’s own BruinShelter. These speakers will share their perspectives and answer questions from the audience. \nConfirmed speakers: \n\nDora Leong Gallo\, CEO\, A Community of Friends\nJerry Ramirez\, Manager\, Homeless Initiative\, Los Angeles County Chief Executive Office\nSuzette Shaw\, Skid Row Resident\nJordan Vega\, Director of Resources\, Students for Students (S4S) formerly Bruin Shelter\nUCLA B.A. Candidate 2019\, Major: Business Economics & Public Health\n\nModerated by Professor Mike Lens \nLunch Provided \nA UCLA joint endeavor from the Lewis Center for Regional Policy Studies\, Ziman Center for Real Estate\, and the Institute on Inequality and Democracy. \n\nDisclaimer: \n“As a condition to your attendance to all Lewis Center and/or Institute of Transportation Studies Events\, you agree and irrevocably consent to your image and/or likeness being captured on photo\, film\, and/or video\, the benefit of which shall vest in Lewis Center for Regional Policy Studies and the Institute of Transportation Studies.\, it’s licensees\, successors and assigns\, and shall be used for promotional\, marketing\, and educational purposes only.”
URL:https://challengeinequality.luskin.ucla.edu/event/housing-equity-community-series-part-1-homelessness-los-angeles/
LOCATION:UCLA Luskin School of Public Affairs\, Room 2355\, 337 Charles E. Young Drive East\,\, Los Angeles\, CA\, 90095-1656\, United States
ATTACH;FMTTYPE=image/png:https://challengeinequality.luskin.ucla.edu/wp-content/uploads/sites/16/2017/11/Homelessness-in-LA.png
END:VEVENT
END:VCALENDAR