BEGIN:VCALENDAR
VERSION:2.0
PRODID:-//Challenge Inequality - ECPv6.15.4//NONSGML v1.0//EN
CALSCALE:GREGORIAN
METHOD:PUBLISH
X-ORIGINAL-URL:https://challengeinequality.luskin.ucla.edu
X-WR-CALDESC:Events for Challenge Inequality
REFRESH-INTERVAL;VALUE=DURATION:PT1H
X-Robots-Tag:noindex
X-PUBLISHED-TTL:PT1H
BEGIN:VTIMEZONE
TZID:America/Los_Angeles
BEGIN:DAYLIGHT
TZOFFSETFROM:-0800
TZOFFSETTO:-0700
TZNAME:PDT
DTSTART:20170312T100000
END:DAYLIGHT
BEGIN:STANDARD
TZOFFSETFROM:-0700
TZOFFSETTO:-0800
TZNAME:PST
DTSTART:20171105T090000
END:STANDARD
END:VTIMEZONE
BEGIN:VEVENT
DTSTART;TZID=America/Los_Angeles:20171204T170000
DTEND;TZID=America/Los_Angeles:20171204T190000
DTSTAMP:20260419T163435
CREATED:20171129T205355Z
LAST-MODIFIED:20171129T212020Z
UID:11158-1512406800-1512414000@challengeinequality.luskin.ucla.edu
SUMMARY:Living the High Life: The Quest for Public Space in the Millennial Metropolis of Toronto's Condoland
DESCRIPTION:UCLA Critical Planning Volume 23 Launch \nFeaturing Ute Lehrer \nUte Lehrer is an Associate Professor at the Faculty of Environmental Studies. She has a PhD in urban planning from UCLA and a lic. phil. from the University of Zurich\, Switzerland\, in art and architectural history\, sociology\, and economic and social history. She has taught at York University\, Brock University and SUNY Buffalo\, was a researcher at the Swiss Federal University of Technology in Zurich\, and held Visiting positions at Université de Montpellier\, France\, University of the Witwatersrand\, Johannesburg\, and University of Manchester\, UK. \nShe was the recipient of several awards\, including UCLA’s Chancellor Fellowship\, UC Berkeley’s Research Fellowship and the American Institute for Certified Planners. She was the Vice-President North America of the Research Committee 21\, ISA and one of the founders of UCLA’s journal Critical Planning. \nCurrently\, she is an Editorial Board Member of the International Journal of Urban and Regional Research. Taking a critical and comparative approach\, her research interests include urban design and land use; housing\, gentrification and the condominium boom; discourse and mega-projects; and the social construction of public space. She has published widely in social science journals and edited books\, held several research grants\, and is a co-applicant for Global Suburbanisms\, a seven year\, multimillion dollar research project housed at York University. \n Download the flyer\, here.
URL:https://challengeinequality.luskin.ucla.edu/event/living-the-high-life/
LOCATION:UCLA Luskin School of Public Affairs\, Room 5391\, 337 Charles E. Young Drive East\, Los Angeles\, CA\, 90095\, United States
ATTACH;FMTTYPE=image/jpeg:https://challengeinequality.luskin.ucla.edu/wp-content/uploads/sites/16/2017/11/toronto.jpg
END:VEVENT
END:VCALENDAR