BEGIN:VCALENDAR
VERSION:2.0
PRODID:-//Challenge Inequality - ECPv6.15.4//NONSGML v1.0//EN
CALSCALE:GREGORIAN
METHOD:PUBLISH
X-WR-CALNAME:Challenge Inequality
X-ORIGINAL-URL:https://challengeinequality.luskin.ucla.edu
X-WR-CALDESC:Events for Challenge Inequality
REFRESH-INTERVAL;VALUE=DURATION:PT1H
X-Robots-Tag:noindex
X-PUBLISHED-TTL:PT1H
BEGIN:VTIMEZONE
TZID:America/Los_Angeles
BEGIN:DAYLIGHT
TZOFFSETFROM:-0800
TZOFFSETTO:-0700
TZNAME:PDT
DTSTART:20180311T100000
END:DAYLIGHT
BEGIN:STANDARD
TZOFFSETFROM:-0700
TZOFFSETTO:-0800
TZNAME:PST
DTSTART:20181104T090000
END:STANDARD
END:VTIMEZONE
BEGIN:VEVENT
DTSTART;TZID=America/Los_Angeles:20180106T120000
DTEND;TZID=America/Los_Angeles:20180106T160000
DTSTAMP:20260419T145503
CREATED:20180102T235918Z
LAST-MODIFIED:20180102T235918Z
UID:11208-1515240000-1515254400@challengeinequality.luskin.ucla.edu
SUMMARY:A Social Justice Conversation with Common and Kareem Abdul-Jabbar
DESCRIPTION:Join Oscar winning artist\, Common and Hall of Fame NBA player and Presidential Medal of Freedom recipient\, Kareem Abdul Jabbar for an exclusive 1-1 conversation on issues\, such as bail disparity\, police brutality\, and juvenile detention. This Social Justice Conversation will be followed by a powerhouse panel discussion to include Dr. Kelly Lytle-Hernandez\, Interim Director of the Ralph J. Bunche Center for African American Studies\, Dr. Tyrone Howard of Black Male Institute\, Dr. Boyce Watkins and other esteemed guests. \nThe panel discussion will conclude with a VIP reception and book signing with Kareem Abdul Jabbar! VIP guests will receive a complimentary book. Refreshments will be served. Proceeds from this event support the ongoing mission of the Skyhook Foundation and UCLA Black Alumni Association student focused programming for 2018. \nEvent Registration
URL:https://challengeinequality.luskin.ucla.edu/event/a-social-justice-conversation/
LOCATION:James West Alumni Center\, 325 Westood Plaza\, Los Angeles\, CA\, 90095\, United States
ATTACH;FMTTYPE=image/png:https://challengeinequality.luskin.ucla.edu/wp-content/uploads/sites/16/2018/01/Social-Justice-Conversation.png
END:VEVENT
END:VCALENDAR