BEGIN:VCALENDAR
VERSION:2.0
PRODID:-//Challenge Inequality - ECPv6.15.4//NONSGML v1.0//EN
CALSCALE:GREGORIAN
METHOD:PUBLISH
X-WR-CALNAME:Challenge Inequality
X-ORIGINAL-URL:https://challengeinequality.luskin.ucla.edu
X-WR-CALDESC:Events for Challenge Inequality
REFRESH-INTERVAL;VALUE=DURATION:PT1H
X-Robots-Tag:noindex
X-PUBLISHED-TTL:PT1H
BEGIN:VTIMEZONE
TZID:America/Los_Angeles
BEGIN:DAYLIGHT
TZOFFSETFROM:-0800
TZOFFSETTO:-0700
TZNAME:PDT
DTSTART:20180311T100000
END:DAYLIGHT
BEGIN:STANDARD
TZOFFSETFROM:-0700
TZOFFSETTO:-0800
TZNAME:PST
DTSTART:20181104T090000
END:STANDARD
END:VTIMEZONE
BEGIN:VEVENT
DTSTART;VALUE=DATE:20180128
DTEND;VALUE=DATE:20180129
DTSTAMP:20260419T131602
CREATED:20180105T222353Z
LAST-MODIFIED:20180105T222448Z
UID:11305-1517097600-1517183999@challengeinequality.luskin.ucla.edu
SUMMARY:L.A. Museums Are Going to Be Free for Just One Day
DESCRIPTION:Getty Center. Shutterstock. Source: LAmag.com \n“On Sunday\, January 28\, dozens of local museums are inviting visitors in\, totally free of charge. The SoCal Museums Free-for-All  is a joint partnership with Metro\, and it’s good for general admission entrance at participating museums. We’ve listed the museums involved below\, with new participants in bold.” \nAnnenberg Space for Photography \nAutry Museum of the American West \nThe Broad \nCalifornia African American Museum \nCalifornia Science Center\nA timed reservation with a convenience fee is required for Space Shuttle Endeavour.\n\nColumbia Memorial Space Center \nCraft & Folk Art Museum \nDescanso Gardens\nFree\, timed tickets are available on a first-come\, first-served basis at www.descansogardens.org\n\nFowler Museum at UCLA \nGetty Center \nGetty Villa\nFree\, timed tickets are required. Visit www.getty.edu. \nGRAMMY Museum \nHammer Museum \nInstitute of Contemporary Art\, Los Angeles \nJapanese American National Museum \nKidspace Children’s Museum \nLa Brea Tar Pits and Museum\nGeneral admission only; free tickets available at tarpits.org/freeforall \nLa Plaza de Cultura y Artes \nLos Angeles County Museum of Art (LACMA) \nThe Museum of Contemporary Art\, Los Angeles (MOCA) \nMuseum of Latin American Art (MOLAA) \nMuseum of Tolerance \nNatural History Museum of Los Angeles County\nFree tickets available at nhm.org/freeforall\n \nOrange County Museum of Art \nThe Paley Center for Media \nPalm Springs Museum of Art \nPasadena Museum of California Art \nPetersen Automotive Museum \nPomona College Museum of Art \nRiverside Art Museum \nSanta Barbara Museum of Art \nSkirball Cultural Center\nNoah’s Ark timed-entry\, one-hour tickets are limited and distributed first-come\, first-served \nSunnylands \nUniversity Art Museum\, CSU Long Beach \nUSC Fisher Museum\nFree admission on Saturday\, January 27 \nUSC Pacific Asia Museum \nZimmer Children’s Museum \n  \nSource: http://www.lamag.com/culturefiles/free-museums-los-angeles/ 
URL:https://challengeinequality.luskin.ucla.edu/event/l-museums-going-free-just-one-day/
LOCATION:Los Angeles\, CA\, Los Angeles\, CA\, United States
END:VEVENT
END:VCALENDAR