BEGIN:VCALENDAR
VERSION:2.0
PRODID:-//Challenge Inequality - ECPv6.15.4//NONSGML v1.0//EN
CALSCALE:GREGORIAN
METHOD:PUBLISH
X-WR-CALNAME:Challenge Inequality
X-ORIGINAL-URL:https://challengeinequality.luskin.ucla.edu
X-WR-CALDESC:Events for Challenge Inequality
REFRESH-INTERVAL;VALUE=DURATION:PT1H
X-Robots-Tag:noindex
X-PUBLISHED-TTL:PT1H
BEGIN:VTIMEZONE
TZID:America/Los_Angeles
BEGIN:DAYLIGHT
TZOFFSETFROM:-0800
TZOFFSETTO:-0700
TZNAME:PDT
DTSTART:20180311T100000
END:DAYLIGHT
BEGIN:STANDARD
TZOFFSETFROM:-0700
TZOFFSETTO:-0800
TZNAME:PST
DTSTART:20181104T090000
END:STANDARD
END:VTIMEZONE
BEGIN:VEVENT
DTSTART;TZID=America/Los_Angeles:20180302T180000
DTEND;TZID=America/Los_Angeles:20180302T220000
DTSTAMP:20260419T114435
CREATED:20180213T001905Z
LAST-MODIFIED:20180214T182831Z
UID:11502-1520013600-1520028000@challengeinequality.luskin.ucla.edu
SUMMARY:The Intersection: Woke Black Folk
DESCRIPTION:26th Annual Pan African Film Festival\n\n\n\nFeatured Theater Event \nPlaywright\, Poet\, Scholar and Activist FUNMILOLA FAGBAMILA performs for ONE NIGHT ONLY her one-woman\, hip hop\, spoken word theater piece: \nTHE INTERSECTION: WOKE BLACK FOLK \nThe Intersection: Woke Black Folk explores and deconstructs black political identity\, foregrounding the forms of ideological conflict and difference that exist within what can be understood to be black radicalism. It calls into question the coherence and singularity of the political category\, “woke black folk\,” demonstrating the deep differences and divides within black communities and within black mobilization. \n \nView the trailer here. \n\nFriday\, March 2nd\, 2018 \nDOORS: 6PM \nSHOW: 7PM \nat the Barbara Morrison Performing Arts Center | Leimert Park \n4305 Degnan Blvd #101\, Los Angeles\, CA 90008 \n“This is Baduizm.” \n-Erykah Badu \n“This work is timely\, brilliant and necessary.” \n-Angela Davis \nGeneral admission $20 \n18 & Under $15 \nTickets can be purchased here. \nDinner / refreshments will be provided!
URL:https://challengeinequality.luskin.ucla.edu/event/intersection-woke-black-folk/
LOCATION:Barbara Morrison Performing Arts Center\, 4305 Degnan Boulevard #101\, Los Angeles\, CA\, 90008\, United States
ATTACH;FMTTYPE=image/jpeg:https://challengeinequality.luskin.ucla.edu/wp-content/uploads/sites/16/2018/02/Funmilolas-Banner.jpg
END:VEVENT
END:VCALENDAR