BEGIN:VCALENDAR
VERSION:2.0
PRODID:-//Challenge Inequality - ECPv6.15.4//NONSGML v1.0//EN
CALSCALE:GREGORIAN
METHOD:PUBLISH
X-WR-CALNAME:Challenge Inequality
X-ORIGINAL-URL:https://challengeinequality.luskin.ucla.edu
X-WR-CALDESC:Events for Challenge Inequality
REFRESH-INTERVAL;VALUE=DURATION:PT1H
X-Robots-Tag:noindex
X-PUBLISHED-TTL:PT1H
BEGIN:VTIMEZONE
TZID:America/Los_Angeles
BEGIN:DAYLIGHT
TZOFFSETFROM:-0800
TZOFFSETTO:-0700
TZNAME:PDT
DTSTART:20180311T100000
END:DAYLIGHT
BEGIN:STANDARD
TZOFFSETFROM:-0700
TZOFFSETTO:-0800
TZNAME:PST
DTSTART:20181104T090000
END:STANDARD
END:VTIMEZONE
BEGIN:VEVENT
DTSTART;TZID=America/Los_Angeles:20180420T080000
DTEND;TZID=America/Los_Angeles:20180420T170000
DTSTAMP:20260419T131521
CREATED:20180313T164815Z
LAST-MODIFIED:20180313T215323Z
UID:11710-1524211200-1524243600@challengeinequality.luskin.ucla.edu
SUMMARY:Santa Ana Community Development in Action
DESCRIPTION:You are invited to Santa Ana’s first… \nThrive Conference\n“Santa Ana Community Development in Action”\nLearn local and national community-based models & obtain tools for community-driven development. \nKeynote speakers: Ananya Roy and America Bracho \nSessions include: \n\nCommunity Land Trusts\nAlternative Economies\nTransportation Oriented Development\nUrban Agriculture\nTools for Organizing\nRole of Government\n\nFree event\, community members\, residents and practitioners welcome. \nFriday\, April 20th\, 2018 | 8–5 p.m. at the Delhi Center in Santa Ana 505 E Central Ave. \nREGISTER HERE \nShare with your friends through this Facebook event: \nhttps://www.facebook.com/events/931043660391422/ \nOr contact them for more information: \nthrivesantaana@gmail.com
URL:https://challengeinequality.luskin.ucla.edu/event/santa-ana-community-development-in-action/
LOCATION:Delhi Center\, 505 E Central Ave\, Santa Ana\, CA\, 92707\, United States
ATTACH;FMTTYPE=image/jpeg:https://challengeinequality.luskin.ucla.edu/wp-content/uploads/sites/16/2018/03/Santa-Ana-banner.jpg
ORGANIZER;CN="Santa Ana Building Healthy Communities":MAILTO:thrivesantaana@gmail.com
END:VEVENT
END:VCALENDAR