BEGIN:VCALENDAR
VERSION:2.0
PRODID:-//Challenge Inequality - ECPv6.15.4//NONSGML v1.0//EN
CALSCALE:GREGORIAN
METHOD:PUBLISH
X-WR-CALNAME:Challenge Inequality
X-ORIGINAL-URL:https://challengeinequality.luskin.ucla.edu
X-WR-CALDESC:Events for Challenge Inequality
REFRESH-INTERVAL;VALUE=DURATION:PT1H
X-Robots-Tag:noindex
X-PUBLISHED-TTL:PT1H
BEGIN:VTIMEZONE
TZID:UTC
BEGIN:STANDARD
TZOFFSETFROM:+0000
TZOFFSETTO:+0000
TZNAME:UTC
DTSTART:20160101T000000
END:STANDARD
END:VTIMEZONE
BEGIN:VEVENT
DTSTART;TZID=UTC:20160602T160000
DTEND;TZID=UTC:20160602T173000
DTSTAMP:20260419T104711
CREATED:20160601T020324Z
LAST-MODIFIED:20160601T023043Z
UID:908-1464883200-1464888600@challengeinequality.luskin.ucla.edu
SUMMARY:Black Politics and the Neoliberal Racial Order
DESCRIPTION:  \nProfessor Michael C. Dawson will be speaking about Black Politics and Neoliberal Racial Order.
URL:https://challengeinequality.luskin.ucla.edu/event/black-politics-neoliberal-racial-order/
LOCATION:Humanities 135\, Los Angeles \, 90095\, United States
END:VEVENT
BEGIN:VEVENT
DTSTART;TZID=UTC:20160526T090000
DTEND;TZID=UTC:20160526T173000
DTSTAMP:20260419T104711
CREATED:20160523T225940Z
LAST-MODIFIED:20160526T002120Z
UID:903-1464253200-1464283800@challengeinequality.luskin.ucla.edu
SUMMARY:Racialized State Violence in Global Perspective 5/25–5/26
DESCRIPTION:Conference schedule now available! Download here or view online! \nOrganized by Hannah Appel\, Jessica Cattelino\, Norma Mendoza-Denton\, and Jemima Pierre\, this two-day conference will feature: \n  \nSPEAKERS: Thursday\, May 26\, 9 a.m.–5:30 p.m.\, Royce 314 \nMelina Abdullah\, professor and chair\, Pan-African Studies\, California State University\, Los Angeles\, is a womanist scholar-activist – recognizing that the role that she plays in the academy is intrinsically linked to broader struggles for the liberation of oppressed people. Her research interests include activism and movement building and Critical Race Theory. \nMohan Ambikaipaker\, assistant professor\, Communications\, Tulane University School of Liberal Arts\, is a social anthropologist and cultural studies scholar who studies the dynamics of multiracial societies. \nAisha Beliso-de Jesus\, associate professor\, African American Religions\, Harvard Divinity School\, is a cultural and social anthropologist. She has conducted ethnographic research with Santería practitioners in Cuba and the United States since 2003. \nMaurice Magaña\, lecturer\, Chicano/a Studies\, UCLA\, researches youth activism and social movements in Mexico and the United States. \nAna Muñiz\, Criminology\, Law\, and Society\, UC Irvine \nHector Perla\, assistant professor\, Latin American & Latino Studies\, UC Santa Cruz\, does research on revolutionary movements\, social movements\, and US public support/opposition to military intervention. \nChristen Smith\, assistant professor\, Anthropology; African & African Diaspora Studies\, University of Texas at Austin\, does research in the areas of performance\, race\, gender\, violence and the black body in the Americas with a particular emphasis on transnational black liberation struggles and racial formation. \nLaurence Ralph\, associate professor\, African & African American Studies and Anthropology\, Harvard University\, is the author of Renegade Dreams: Living Through Injury in Gangland Chicago (University of Chicago Press). \nRinaldo Walcott\, associate professor\, Sociology & Equity Studies\, University of Toronto\, conducts research Black Diaspora Cultural Studies with an emphasis on queer sexualities\, masculinity\, and cultural politics\, as well as multicultural and transnational debates with an emphasis on nation\, citizenship and coloniality. \nAudra Simpson is associate professor\, Anthropology\, Columbia University. Her research is energized by the problem of recognition\, by its passage beyond (and below) the aegis of the state into the grounded field of political self-designation\, self-description\, and subjectivity. \nRESPONDENTS \nKelly Lytle Hernandez\, assistant professor\, Department of Chicana/o Studies\, UCLA\, \nSaree Makdisi\, professor\, Department of English\, UCLA\, does research at the crossroads of several different fields\, including British Romanticism\, imperial culture\, colonial and postcolonial theory and criticism\, and the cultures of urban modernity\, particularly the revision and contestation of charged urban spaces\, including London\, Beirut and Jerusalem \nSarah Haley\, assistant professor Gender Studies\, UCLA \nCosponsored by Alessandro Duranti\, Dean\, UCLA Division of Social Sciences; David Schaberg\, Dean\, UCLA Division of Humanities; UCLA Center for the Study of Women; Institute on Inequality and Democracy at the UCLA Luskin School of Public Affairs; Robin D.G. Kelley\, Distinguished Professor of History & Gary B. Nash Endowed Chair in United States History; Eric Avila\, Associate Dean\, UCLA Office of Equity\, Diversity and Inclusion; UCLA African Studies Center; UCLA American Indian Studies Center; Ralph J. Bunche Center for African American Studies at UCLA; UCLA Department of Gender Studies; Disability Studies at UCLA;  UCLA International Institute; and UCLA Postcolonial Theory & Literary Studies. \nPhoto credits: Black Lives Matter march\, Minneapolis\, Minneapolis\, Minnesota\, July 31\, 2015\, Fibonacci Blue\, https://www.flickr.com/photos/fibonacciblue/; Photo of E. Dandicat courtesy of the John D. and Catherine T. MacArthur Foundation \nRSVP
URL:https://challengeinequality.luskin.ucla.edu/event/903/
LOCATION:Royce Hall 314\, 340 Royce Drive\, Los Angeles \, 90095\, United States
END:VEVENT
BEGIN:VEVENT
DTSTART;TZID=UTC:20160525T180000
DTEND;TZID=UTC:20160525T200000
DTSTAMP:20260419T104711
CREATED:20160504T020835Z
LAST-MODIFIED:20160526T002240Z
UID:833-1464199200-1464206400@challengeinequality.luskin.ucla.edu
SUMMARY:Racialized State Violence in Global Perspective 5/25–5/26
DESCRIPTION:Conference schedule now available! Download here or view online! \nOrganized by Hannah Appel\, Jessica Cattelino\, Norma Mendoza-Denton\, and Jemima Pierre\, this two-day conference will feature: \nKEYNOTE: Wednesday\, May 25\, 6 p.m.\, Lenart Auditorium\, Fowler Museum \nEdwidge Danticat (left) is an award-winning author of short stories and novels that often engage with the history of her native Haiti in. She also writes about the immigrant experience—what she calls “dyaspora”—and the reality of life in Haiti today. Her works include Breath\, Eyes\, Memory (1994); Krik? Krak! (1996); Claire of the Sea Light (2013);Mama’s Nightingale (2015); and Untwine (2015). She wrote and narrated the film Girl Rising (Haiti) in 2013. In 2007\, she received a National Book Award nomination for Brother\, I’m Dying. She was shortlisted for the Andrew Carnegie Medal for Excellence in Fiction for Claire of the Sea Light in 2014. \nSPEAKERS: Thursday\, May 26\, 9 a.m.–5:30 p.m.\, Royce 314 \nMelina Abdullah\, professor and chair\, Pan-African Studies\, California State University\, Los Angeles\, is a womanist scholar-activist – recognizing that the role that she plays in the academy is intrinsically linked to broader struggles for the liberation of oppressed people. Her research interests include activism and movement building and Critical Race Theory. \nMohan Ambikaipaker\, assistant professor\, Communications\, Tulane University School of Liberal Arts\, is a social anthropologist and cultural studies scholar who studies the dynamics of multiracial societies. \nAisha Beliso-de Jesus\, associate professor\, African American Religions\, Harvard Divinity School\, is a cultural and social anthropologist. She has conducted ethnographic research with Santería practitioners in Cuba and the United States since 2003. \nMaurice Magaña\, lecturer\, Chicano/a Studies\, UCLA\, researches youth activism and social movements in Mexico and the United States. \nAna Muñiz\, Criminology\, Law\, and Society\, UC Irvine \nHector Perla\, assistant professor\, Latin American & Latino Studies\, UC Santa Cruz\, does research on revolutionary movements\, social movements\, and US public support/opposition to military intervention. \nChristen Smith\, assistant professor\, Anthropology; African & African Diaspora Studies\, University of Texas at Austin\, does research in the areas of performance\, race\, gender\, violence and the black body in the Americas with a particular emphasis on transnational black liberation struggles and racial formation. \nLaurence Ralph\, associate professor\, African & African American Studies and Anthropology\, Harvard University\, is the author of Renegade Dreams: Living Through Injury in Gangland Chicago (University of Chicago Press). \nRinaldo Walcott\, associate professor\, Sociology & Equity Studies\, University of Toronto\, conducts research Black Diaspora Cultural Studies with an emphasis on queer sexualities\, masculinity\, and cultural politics\, as well as multicultural and transnational debates with an emphasis on nation\, citizenship and coloniality. \nAudra Simpson is associate professor\, Anthropology\, Columbia University. Her research is energized by the problem of recognition\, by its passage beyond (and below) the aegis of the state into the grounded field of political self-designation\, self-description\, and subjectivity. \nRESPONDENTS \nKelly Lytle Hernandez\, assistant professor\, Department of Chicana/o Studies\, UCLA\, \nSaree Makdisi\, professor\, Department of English\, UCLA\, does research at the crossroads of several different fields\, including British Romanticism\, imperial culture\, colonial and postcolonial theory and criticism\, and the cultures of urban modernity\, particularly the revision and contestation of charged urban spaces\, including London\, Beirut and Jerusalem \nSarah Haley\, assistant professor Gender Studies\, UCLA \nCosponsored by Alessandro Duranti\, Dean\, UCLA Division of Social Sciences; David Schaberg\, Dean\, UCLA Division of Humanities; UCLA Center for the Study of Women; Institute on Inequality and Democracy at the UCLA Luskin School of Public Affairs; Robin D.G. Kelley\, Distinguished Professor of History & Gary B. Nash Endowed Chair in United States History; Eric Avila\, Associate Dean\, UCLA Office of Equity\, Diversity and Inclusion; UCLA African Studies Center; UCLA American Indian Studies Center; Ralph J. Bunche Center for African American Studies at UCLA; UCLA Department of Gender Studies; Disability Studies at UCLA;  UCLA International Institute; and UCLA Postcolonial Theory & Literary Studies. \nPhoto credits: Black Lives Matter march\, Minneapolis\, Minneapolis\, Minnesota\, July 31\, 2015\, Fibonacci Blue\, https://www.flickr.com/photos/fibonacciblue/; Photo of E. Dandicat courtesy of the John D. and Catherine T. MacArthur Foundation \nRSVP
URL:https://challengeinequality.luskin.ucla.edu/event/racialized-state-violence-global-perspective/
LOCATION:UCLA Harry and Yvonne Lenart Auditorium\, Fowler Museum\, 308 Charles E Young Dr N\, Los Angeles \, 90024\, United States
END:VEVENT
BEGIN:VEVENT
DTSTART;TZID=UTC:20160522T140000
DTEND;TZID=UTC:20160522T160000
DTSTAMP:20260419T104711
CREATED:20160521T010502Z
LAST-MODIFIED:20160521T010645Z
UID:898-1463925600-1463932800@challengeinequality.luskin.ucla.edu
SUMMARY:Documentary Screening: "Sunset and Alvarado"
DESCRIPTION:The film is titled “Sunset and Alvarado”\, a documentary produced by young filmmakers from Echo Park and neighboring areas that re-visits their neighborhoods amidst increasing gentrification. \nIn its early years (14 years ago) the Echo Park Film Center produced a documentary\, Sunset & Alvarado about its direct surroundings. Looking back at this 2002 VHS rip\, it goes without saying that the landscape has changed. \nThis Spring 2016 semester the EPFC Youth Class has revisited this intersection the Film Center calls home. The youth students set out to talk to people\, businesses\, the community and each other to discover the many histories that collide at this intersection and how people happen to find themselves on this particular corner in LA. As the class progressed\, we learned of more long-standing businesses suddenly closing\, moving and the new developments soon to be taking their place. The grief of seeing these business leave gets mixed with fun and rediscovery of the neighborhood as the students run through the aisles of Hit Bargain on its last days of business and their voices as they meditate on the meaning of change. \nMore information: \nhttp://www.echoparkfilmcenter.org/events/sunset-alvarado-epfc-spring-youth-class-screening/ \nhttps://www.facebook.com/events/749768015160405/ \nThe documentary film is a product of a film production workshop with young filmmakers sponsored by the Echo Park Film Center\, a non-profit organization that has been curating regular screenings and organizing production classes for low income communities.
URL:https://challengeinequality.luskin.ucla.edu/event/documentary-screening-sunset-alvarado/
LOCATION:Bootleg Theater\, 2220 Beverly Blvd.\, Los Angeles\, CA\, 90057\, United States
END:VEVENT
BEGIN:VEVENT
DTSTART;TZID=UTC:20160519T120000
DTEND;TZID=UTC:20160519T133000
DTSTAMP:20260419T104711
CREATED:20160506T022745Z
LAST-MODIFIED:20160506T023244Z
UID:847-1463659200-1463664600@challengeinequality.luskin.ucla.edu
SUMMARY:CPSC – Jennie Chio – All Together Now: Ethnic Crowds and Vernacular Media in 'Minority' China
DESCRIPTION:Jennie Chio (Emory)\nCo-sponsored by the UCLA Center for Chinese Studies \nCulture\, Power\, and Social Change (CPSC)\nCPSC is concerned with a broad range of issues in sociocultural anthropology. As the name of the group suggests\, they are particularly interested in how the workings of culture\, and of different forms of power and inequality\, play out in the contemporary world. And behind these two issues are questions of social change\, that is\, of the ways in which the rapidly changing world of today impacts people’s lives\, and in turn\, how people in different circumstances seek to bring about change in the world. CPSC I hosts talks by both in-house faculty members and visiting post-doctoral and faculty level scholars; CPSC II hosts talks by advanced graduate students. All CPSC events are open only to UCLA faculty\, students\, and invited guests. If you would like to be added to the mailing list\, email Hannah Appel at happel@ucla.edu.
URL:https://challengeinequality.luskin.ucla.edu/event/cpsc-jennie-chio-together-now-ethnic-crowds-vernacular-media-minority-china/
LOCATION:Haines Hall 279 Room\, 375 Portola Plaza\, Los Angeles\, CA\, 90095\, United States
END:VEVENT
BEGIN:VEVENT
DTSTART;TZID=UTC:20160519T110000
DTEND;TZID=UTC:20160519T200000
DTSTAMP:20260419T104711
CREATED:20160504T012015Z
LAST-MODIFIED:20160504T015657Z
UID:826-1463655600-1463688000@challengeinequality.luskin.ucla.edu
SUMMARY:Housing 2.0: Reimagining the Housing System in Silicon Valley
DESCRIPTION:CREATIVE THINKERS\, DOERS & DISRUPTORS\, WELCOME TO HOUSING 2.0!\nFor too long\, Silicon Valley has been the most expensive place in the country to live.  Yet\, the problem has never been worse.  Everyone is struggling with the stratospheric cost of housing\, from our teachers\, baristas\, chefs\, social workers\, cashiers\, and artists to small business owners\, startups\, and engineers.  In other words\, everyone who helps make Silicon Valley the Global Center of Innovation. \nAt Housing 2.0\, we’re having a much-needed conversation: how to disrupt the housing system.  Because the existing system isn’t working. \nWe’re incredibly excited to have Kim-Mai Cutler (TechCrunch)\, Nate Donato-Weinstein (Silicon Valley Business Journal)\, and Rachael Myrow (KQED) moderate the “disruption huddles\,” and Ananya Roy (UCLA) as the “disruption” keynote.  Housing 2.0 also includes interactive features for participants to curate their own experience. \nJoin the movement May 19\, 2016 @ Housing 2.0 to Reimagine the Housing System in Silicon Valley!  Sign-in and lunch at food trucks (free with registration) begin at 11:00am.  Official program starts at 1pm.   \nLearn more and/or RSVP.
URL:https://challengeinequality.luskin.ucla.edu/event/housing-2-0-reimagining-housing-system-silicon-valley/
LOCATION:San Jose City Hall\, Rotunda + Plaza\, 200 East Santa Clara Street \, San Jose\,  95113\, United States
END:VEVENT
BEGIN:VEVENT
DTSTART;TZID=UTC:20160512T120000
DTEND;TZID=UTC:20160512T133000
DTSTAMP:20260419T104711
CREATED:20160506T022106Z
LAST-MODIFIED:20160506T023356Z
UID:843-1463054400-1463059800@challengeinequality.luskin.ucla.edu
SUMMARY:CPSC – Karen Ho – Racializing Normative Markets: Whiteness\, Masculinity\, and the "Efficiency" of Networks
DESCRIPTION:Karen Ho (University of Minnesota)\nCo-sponsored by the UCLA Institute for Research on Labor and Employment \n\nCulture\, Power\, and Social Change\nCPSC is concerned with a broad range of issues in sociocultural anthropology. As the name of the group suggests\, they are particularly interested in how the workings of culture\, and of different forms of power and inequality\, play out in the contemporary world. And behind these two issues are questions of social change\, that is\, of the ways in which the rapidly changing world of today impacts people’s lives\, and in turn\, how people in different circumstances seek to bring about change in the world. CPSC I hosts talks by both in-house faculty members and visiting post-doctoral and faculty level scholars; CPSC II hosts talks by advanced graduate students. All CPSC events are open only to UCLA faculty\, students\, and invited guests. If you would like to be added to the mailing list\, email Hannah Appel at happel@ucla.edu. \n 
URL:https://challengeinequality.luskin.ucla.edu/event/cpsc-karen-ho-racializing-normative-markets-whiteness-masculinity-efficiency-networks/
LOCATION:Haines Hall 352 Reading Room\, 375 Portola Plaza\, Los Angeles\, CA\, 90095\, United States
END:VEVENT
BEGIN:VEVENT
DTSTART;TZID=UTC:20160509T163000
DTEND;TZID=UTC:20160509T190000
DTSTAMP:20260419T104711
CREATED:20160504T014317Z
LAST-MODIFIED:20160504T015837Z
UID:828-1462811400-1462820400@challengeinequality.luskin.ucla.edu
SUMMARY:Contemplating the Rise of Asian Cities: Workshop and Plenary Session
DESCRIPTION:This session invites workshop participants and interested Yale scholars and affiliates to come together for an open conversation about new directions in the study of Asian cities at Yale. The evening will include two plenary talks by distinguished scholars of Asian and global urbanism\, as well as ample time for conversation and discussion over dinner. \nPlenary speakers: \n\nAnanya Roy (University of California\, Los Angeles)\nNeil Brenner (Harvard Graduate School of Design)\n\nmoderated by Helen Siu\, K. Sivaramakrishnan\, and Erik Harms \nLearn more and/or RSVP. 
URL:https://challengeinequality.luskin.ucla.edu/event/contemplating-rise-asian-cities-workshop-plenary-session/
LOCATION:Maurice R. Greenberg Conference Center\, 391 Prospect Street\, New Haven\, CT\, 06511\, United States
END:VEVENT
BEGIN:VEVENT
DTSTART;TZID=UTC:20160506T120000
DTEND;TZID=UTC:20160506T140000
DTSTAMP:20260419T104711
CREATED:20160507T005610Z
LAST-MODIFIED:20160507T005746Z
UID:849-1462536000-1462543200@challengeinequality.luskin.ucla.edu
SUMMARY:Women for a New Los Angeles Luncheon
DESCRIPTION:Join us at LAANE’s  Women for a New Los Angeles Luncheon\, the largest women’s event of its kind in Los Angeles\, as we celebrate women’s leadership and forge a common vision for equality and justice in Los Angeles. \nHeld each spring for over ten years\, the Women for a New Los Angeles Luncheon brings together more than 700 progressive women (and men) from across Southern California. Previous honorees and speakers at the Women for a New Los Angeles Luncheon have included SHOWTIME’s Masters of Sex\, HBO’s Getting On\, Jane Fonda\, Arianna Huffington\, civil rights attorney Connie Rice\, Ramona Ripston of the ACLU of Southern California\, Labor Commissioner of California Julie Su and best-selling authors Barbara Ehrenreich\, Peggy Orenstein and Lisa See\, as well as activist Katherine Spillar and historian Dr. Joyce Appleby\, among others. \nThe Women for a New Los Angeles Luncheon also showcases brilliant young leaders who have attended the Beth and Julia Meltzer Internship Program at LAANE. \nJoin us for the 2016 Luncheon on Friday\, May 6th\, at the Beverly Hilton Hotel.\n\nMore Information
URL:https://challengeinequality.luskin.ucla.edu/event/women-new-los-angeles-luncheon/
LOCATION:Beverly Hilton Hotel\, 9876 Wilshire Blvd\, Los Angeles\, CA\, 90210\, United States
END:VEVENT
BEGIN:VEVENT
DTSTART;TZID=UTC:20160426T180000
DTEND;TZID=UTC:20160426T210000
DTSTAMP:20260419T104711
CREATED:20160504T034513Z
LAST-MODIFIED:20160511T044958Z
UID:836-1461693600-1461704400@challengeinequality.luskin.ucla.edu
SUMMARY:The First Annual Distinguished Lecture–John Friedmann
DESCRIPTION:The Institute on Inequality and Democracy at UCLA Luskin presents\nThe First Annual Distinguished Lecture\nJOHN FRIEDMANN\n“The Ruse of Reason: Poverty\, Inequality and Personal Freedoms in the People’s Republic of China 1950–2015”\nDr. John Friedmann is Professor Emeritus in the School of Public Affairs at UCLA and Honorary Professor in the School of Community and Regional Planning at UBC. He was founding professor of the Program for Urban Planning in the Graduate School of Architecture and Planning at UCLA\, and at various times between 1969 and 1996 served as its head for a total of 14 years.\n\n\nJohn Friedmann’s Lecture Speech: “The Ruse of Reason: Poverty\, Inequality\, and Personal Freedoms in the People’s Republic of China 1950-2015”
URL:https://challengeinequality.luskin.ucla.edu/event/first-annual-distinguished-lecture/
LOCATION:UCLA Luskin School of Public Affairs/ CSW Faculty Center\, 337 Charles E. Young Drive East\, Los Angeles \, CA\, 90024\, United States
END:VEVENT
END:VCALENDAR