BEGIN:VCALENDAR
VERSION:2.0
PRODID:-//Challenge Inequality - ECPv6.15.4//NONSGML v1.0//EN
CALSCALE:GREGORIAN
METHOD:PUBLISH
X-ORIGINAL-URL:https://challengeinequality.luskin.ucla.edu
X-WR-CALDESC:Events for Challenge Inequality
REFRESH-INTERVAL;VALUE=DURATION:PT1H
X-Robots-Tag:noindex
X-PUBLISHED-TTL:PT1H
BEGIN:VTIMEZONE
TZID:America/Los_Angeles
BEGIN:DAYLIGHT
TZOFFSETFROM:-0800
TZOFFSETTO:-0700
TZNAME:PDT
DTSTART:20200308T100000
END:DAYLIGHT
BEGIN:STANDARD
TZOFFSETFROM:-0700
TZOFFSETTO:-0800
TZNAME:PST
DTSTART:20201101T090000
END:STANDARD
END:VTIMEZONE
BEGIN:VEVENT
DTSTART;TZID=America/Los_Angeles:20200520T110000
DTEND;TZID=America/Los_Angeles:20200520T123000
DTSTAMP:20260419T235704
CREATED:20200427T180441Z
LAST-MODIFIED:20200427T180441Z
UID:17793-1589972400-1589977800@challengeinequality.luskin.ucla.edu
SUMMARY:Save the Date - Pro-Bono Expert Witnessing: A Role for Academics in Asylum Cases
DESCRIPTION:Pro-Bono Expert Witnessing: A Role for Academics in Asylum Cases \nFeaturing Leisy Abrego (UCLA)\, Cecilia Menjívar (UCLA)\, Steven Osuna (CSULB)\, and Alex Sanchez (Homies Unidos)” \nDetails coming soon.
URL:https://challengeinequality.luskin.ucla.edu/event/save-the-date-pro-bono-expert-witnessing-a-role-for-academics-in-asylum-cases/
LOCATION:IL
END:VEVENT
END:VCALENDAR