BEGIN:VCALENDAR
VERSION:2.0
PRODID:-//Challenge Inequality - ECPv6.15.4//NONSGML v1.0//EN
CALSCALE:GREGORIAN
METHOD:PUBLISH
X-WR-CALNAME:Challenge Inequality
X-ORIGINAL-URL:https://challengeinequality.luskin.ucla.edu
X-WR-CALDESC:Events for Challenge Inequality
REFRESH-INTERVAL;VALUE=DURATION:PT1H
X-Robots-Tag:noindex
X-PUBLISHED-TTL:PT1H
BEGIN:VTIMEZONE
TZID:UTC
BEGIN:STANDARD
TZOFFSETFROM:+0000
TZOFFSETTO:+0000
TZNAME:UTC
DTSTART:20160101T000000
END:STANDARD
END:VTIMEZONE
BEGIN:VEVENT
DTSTART;TZID=UTC:20160602T160000
DTEND;TZID=UTC:20160602T173000
DTSTAMP:20260421T132536
CREATED:20160601T020324Z
LAST-MODIFIED:20160601T023043Z
UID:908-1464883200-1464888600@challengeinequality.luskin.ucla.edu
SUMMARY:Black Politics and the Neoliberal Racial Order
DESCRIPTION:  \nProfessor Michael C. Dawson will be speaking about Black Politics and Neoliberal Racial Order.
URL:https://challengeinequality.luskin.ucla.edu/event/black-politics-neoliberal-racial-order/
LOCATION:Humanities 135\, Los Angeles \, 90095\, United States
END:VEVENT
END:VCALENDAR