BEGIN:VCALENDAR
VERSION:2.0
PRODID:-//Challenge Inequality - ECPv6.15.4//NONSGML v1.0//EN
CALSCALE:GREGORIAN
METHOD:PUBLISH
X-WR-CALNAME:Challenge Inequality
X-ORIGINAL-URL:https://challengeinequality.luskin.ucla.edu
X-WR-CALDESC:Events for Challenge Inequality
REFRESH-INTERVAL;VALUE=DURATION:PT1H
X-Robots-Tag:noindex
X-PUBLISHED-TTL:PT1H
BEGIN:VTIMEZONE
TZID:America/Los_Angeles
BEGIN:DAYLIGHT
TZOFFSETFROM:-0800
TZOFFSETTO:-0700
TZNAME:PDT
DTSTART:20170312T100000
END:DAYLIGHT
BEGIN:STANDARD
TZOFFSETFROM:-0700
TZOFFSETTO:-0800
TZNAME:PST
DTSTART:20171105T090000
END:STANDARD
END:VTIMEZONE
BEGIN:VEVENT
DTSTART;TZID=America/Los_Angeles:20170603T120000
DTEND;TZID=America/Los_Angeles:20170603T170000
DTSTAMP:20260420T030919
CREATED:20170530T214747Z
LAST-MODIFIED:20170530T215219Z
UID:3301-1496491200-1496509200@challengeinequality.luskin.ucla.edu
SUMMARY:"WHAT IS A POLITICAL FILM?"
DESCRIPTION:ACTION! PRESENTS “WHAT IS A POLITICAL FILM?” WORKSHOP \nSaturday\, June 3: Noon – 5 pm\nThis workshop is free and open to young filmmakers ages 19 – 35 with priority given to traditionally media-marginalized populations. Write to them at info@echoparkfilmcenter.org for more info and sign up. \nThe workshop will begin with an expanded version of a presentation that they have presented at numerous universities\, art galleries\, cinema spaces and the reservations and refugee camps themselves. The presentation will take into account questions concerning the themes of the project; that is to say an analysis of the refugee camps and native reservations as spaces of exception within the prevailing nation-states they are located in–as repositories of very particular histories of displacement\, and as locations where the logic of modern nationalism is thoroughly excavated\, scrutinized and deconstructed. \nThe presentation will also focus very heavily on questions of methodology\, examinations of the film as a political document and tool and looking into questions of audience and contexts of exhibition. What does it mean to make a film with a non-Western audience in mind? What does it mean for a film to actually be a conduit of communication between peoples rather than an object for an imagined spectator? What is the liberatory value of treating film as an instrument of pedagogy rather than an end in and of itself? \nThe other subject they will turn their attention to is the political realities of space and their reflection in film and video. For example\, they could ask what are the spatial qualities of rural poverty on a reservation that can be visually represented or intimated? Or how does the crowdedness of refugee camps speak to the paradigm of Palestinian refugeehood and how does one capture that on film? \nThis workshop is part of Action! Cinema as Sanctuary summer series. \n  \n\nACTION! Cinema as Sanctuary \nPolitical documentary films take on a renewed role amid a reinvigorated rage against immigrants\, refugees\, and people of color in many places around the world. Through politically engaged cinematic work\, many filmmakers are confronting old and new forms of racism\, the deepening ungrievability of Black and Brown lives\, and precarious realities faced by minority communities including indigenous peoples\, the elderly\, refugees\, women and children. ACTION! series: Cinema as Sanctuary features political documentary films that re-assert the images and stories that remind us that a compassionate world rooted upon solidarity\, friendship\, and collective action is possible. \nCurated by Nerve Macaspac of the Echo Park Film Center (EPFC)\, with special support provided by the Academy of Motion Picture Arts and Sciences.
URL:https://challengeinequality.luskin.ucla.edu/event/what-is-a-political-film/
LOCATION:Echo Park Film Center\, 1200 N Alvarado St\, Los Angeles \, CA\, 90026\, United States
ATTACH;FMTTYPE=image/jpeg:https://challengeinequality.luskin.ucla.edu/wp-content/uploads/sites/16/2017/05/what-is-a-political-film.jpg
END:VEVENT
BEGIN:VEVENT
DTSTART;TZID=America/Los_Angeles:20170608T173000
DTEND;TZID=America/Los_Angeles:20170608T203000
DTSTAMP:20260420T030919
CREATED:20170605T215715Z
LAST-MODIFIED:20170605T222409Z
UID:3598-1496943000-1496953800@challengeinequality.luskin.ucla.edu
SUMMARY:Pacific Ties Newsmagazine's 40th Anniversary and Print Issue Launch Party
DESCRIPTION:Pacific Ties Newsmagazine’s 40th Anniversary and Print Issue Launch Party  \nThursday\, June 8th\n5:30 P.M. to 8:30 P.M.\nUCLA Rolfe Hall\, Room 3116 \nCelebrate the 40th Anniversary of Pacific Ties Newsmagazine and the release of their newest print issue! \nThis year’s theme is “RESISTANCE\,” inspired by ongoing events that continue to place the lives of marginalized communities at risk. Through this print issue\, Pacific Ties aims to highlight the importance of journalism and the need for alternative forms of resistance. They hope to look deeply within communities\, understand how experiences intersect\, and discuss the question: “What problems do we face\, or even perpetuate\, that we can acknowledge and then resist?” \nRSVP: https://www.facebook.com/events/101070617162422/
URL:https://challengeinequality.luskin.ucla.edu/event/pacific-ties-newsmagazines-40th-anniversary-and-print-issue-launch-party/
LOCATION:UCLA Rolfe Hall\, Room 3116\, 345 Portola Plaza\, Los Angeles\, CA\, United States
ATTACH;FMTTYPE=image/jpeg:https://challengeinequality.luskin.ucla.edu/wp-content/uploads/sites/16/2017/06/Pacific-Ties-Newsmagazine.jpg
END:VEVENT
BEGIN:VEVENT
DTSTART;TZID=America/Los_Angeles:20170616T090000
DTEND;TZID=America/Los_Angeles:20170616T090000
DTSTAMP:20260420T030919
CREATED:20170606T165849Z
LAST-MODIFIED:20170615T171757Z
UID:3655-1497603600-1497603600@challengeinequality.luskin.ucla.edu
SUMMARY:Luskin Commencement 2017
DESCRIPTION:
URL:https://challengeinequality.luskin.ucla.edu/event/luskin-commencement-2017/
LOCATION:UCLA Royce Hall\, 340 Royce Drive\, Los Angeles \, CA\, 90095\, United States
ATTACH;FMTTYPE=image/jpeg:https://challengeinequality.luskin.ucla.edu/wp-content/uploads/sites/16/2017/06/2017-luskin-commencement-1.jpg
END:VEVENT
BEGIN:VEVENT
DTSTART;TZID=America/Los_Angeles:20170623T190000
DTEND;TZID=America/Los_Angeles:20170623T210000
DTSTAMP:20260420T030919
CREATED:20170614T222703Z
LAST-MODIFIED:20170717T015621Z
UID:3588-1498244400-1498251600@challengeinequality.luskin.ucla.edu
SUMMARY:Movie Night at the Museum
DESCRIPTION:Friday\, June 23rd at 7 p.m. : A provocative documentary by Sacha Jenkins looks at how decades of racial tensions\, injustice\, and a troubled relationship between the LAPD and the African-American community led to the 1965 Watts riots\, the rise of LA street gangs\, and the 1992 incidents. \n\nFree movie screenings\, free popcorn\, free coffee & free conversations\, every 2nd and 4th Friday of the month at the #skidrowmuseum. They screen movies about issues that are important to their Skid Row and downtown community such as gentrification\, income inequality\, and racism. \n\n250 S. Broadway\, Los Angeles\, CA 90012
URL:https://challengeinequality.luskin.ucla.edu/event/movie-night-at-the-museum-june23/
LOCATION:Los Angeles Poverty Department\, 250 S. Broadway\, Los Angeles\, CA\, 90012\, United States
ATTACH;FMTTYPE=image/jpeg:https://challengeinequality.luskin.ucla.edu/wp-content/uploads/sites/16/2017/06/LAPD-Logo.jpg
END:VEVENT
BEGIN:VEVENT
DTSTART;TZID=America/Los_Angeles:20170624T160000
DTEND;TZID=America/Los_Angeles:20170624T190000
DTSTAMP:20260420T030919
CREATED:20170619T203803Z
LAST-MODIFIED:20170619T204813Z
UID:4323-1498320000-1498330800@challengeinequality.luskin.ucla.edu
SUMMARY:"Freedom Now" Awards Celebration
DESCRIPTION:Join the LA CAN family on June 24th for the 7th Annual Freedom Now Awards and the GRAND OPENING of the LA CAN Justice & Wellness Center! \nContact Eric at erica@cangress.org or 213.228.0024 for more information or to purchase tickets! \nThis year’s honorees will continue the tradition of bringing some of the most powerful artists\, social action academics\, activists\, and thought leaders together to celebrate LA CANs work. They will honor Professor Jody Armour(USC School of Law)\, Artist Emory Douglas (Minister of Culture\, Black Panther Party and internationally celebrated graphic artist)\, Margaret Prescod (Radio Personality and global freedom fighter for women’s rights)\, and\, Ann Sewill\, California Community Foundation. \nRecording artist\, Dwight Trible\, is headlining the event but you can count on surprise guests to show up as well. \nDownloadable Flyer
URL:https://challengeinequality.luskin.ucla.edu/event/freedom-now-awards-celebration/
LOCATION:Los Angeles Community Action Network\, 838 E. 6th Street\, Los Angeles\, CA\, 90021\, United States
ATTACH;FMTTYPE=image/jpeg:https://challengeinequality.luskin.ucla.edu/wp-content/uploads/sites/16/2017/06/2017-Freedom-Now-Sponsorship-Package-002_Page_1.jpg
END:VEVENT
END:VCALENDAR