BEGIN:VCALENDAR
VERSION:2.0
PRODID:-//Challenge Inequality - ECPv6.15.4//NONSGML v1.0//EN
CALSCALE:GREGORIAN
METHOD:PUBLISH
X-WR-CALNAME:Challenge Inequality
X-ORIGINAL-URL:https://challengeinequality.luskin.ucla.edu
X-WR-CALDESC:Events for Challenge Inequality
REFRESH-INTERVAL;VALUE=DURATION:PT1H
X-Robots-Tag:noindex
X-PUBLISHED-TTL:PT1H
BEGIN:VTIMEZONE
TZID:America/Los_Angeles
BEGIN:DAYLIGHT
TZOFFSETFROM:-0800
TZOFFSETTO:-0700
TZNAME:PDT
DTSTART:20170312T100000
END:DAYLIGHT
BEGIN:STANDARD
TZOFFSETFROM:-0700
TZOFFSETTO:-0800
TZNAME:PST
DTSTART:20171105T090000
END:STANDARD
END:VTIMEZONE
BEGIN:VEVENT
DTSTART;TZID=America/Los_Angeles:20171005T180000
DTEND;TZID=America/Los_Angeles:20171005T200000
DTSTAMP:20260419T183527
CREATED:20171004T225532Z
LAST-MODIFIED:20171004T225944Z
UID:9891-1507226400-1507233600@challengeinequality.luskin.ucla.edu
SUMMARY:Sanctuary Town Hall
DESCRIPTION:Join an inspirational and educational Town Hall to support an ordinance that will finally make L.A. a Sanctuary City\, where all are treated with the equality\, respect\, and dignity deserved. \nFeatured speakers include distinguished labor leader Maria Elena Durazo\, long-time immigrants rights activist Angela Sanbrano\, and City Councilmember Gibert Cedillo.
URL:https://challengeinequality.luskin.ucla.edu/event/sanctuary-town-hall/
LOCATION:SEIU 721\, 1545 Wilshire Blvd\, Los Angeles\, CA\, 90017\, United States
ATTACH;FMTTYPE=image/jpeg:https://challengeinequality.luskin.ucla.edu/wp-content/uploads/sites/16/2017/10/Sanctuary-Town-Hall-e1507157713796.jpg
END:VEVENT
BEGIN:VEVENT
DTSTART;TZID=America/Los_Angeles:20171006T180000
DTEND;TZID=America/Los_Angeles:20171006T190000
DTSTAMP:20260419T183527
CREATED:20171004T205716Z
LAST-MODIFIED:20171004T210421Z
UID:9871-1507312800-1507316400@challengeinequality.luskin.ucla.edu
SUMMARY:The Activists: War\, Peace\, and Politics in the Streets
DESCRIPTION:Documentary film screening of The Activists: War\, Peace\, and Politics in the Streets\, by producer Michael T. Heaney\, chronicles the lives of activists in the United States who opposed the wars in Iraq and Afghanistan after 9/11. It considers their backgrounds\, their tactics\, the organizations that supported them\, and their historical context. \nRun Time: 60 Minutes \nLink to Trailer: https://vimeo.com/203493692\nWebpage: https://www.theactivistsfilm.com/ \nAwareness Film Festival 2017 will be hosted at LA LIVE REGAL CINEMA 14. \n 
URL:https://challengeinequality.luskin.ucla.edu/event/activists-war-peace-politics-streets/
LOCATION:LA Live Regal Cinema 14\, 1000 W Olympic Blvd\, Los Angeles\, CA\, 90015\, United States
ATTACH;FMTTYPE=image/jpeg:https://challengeinequality.luskin.ucla.edu/wp-content/uploads/sites/16/2017/10/The-Activists-Film-e1507150526181.jpg
END:VEVENT
BEGIN:VEVENT
DTSTART;TZID=America/Los_Angeles:20171020T000000
DTEND;TZID=America/Los_Angeles:20171021T000000
DTSTAMP:20260419T183527
CREATED:20170717T044959Z
LAST-MODIFIED:20170717T052825Z
UID:5703-1508457600-1508544000@challengeinequality.luskin.ucla.edu
SUMMARY:Pang!
DESCRIPTION:Summary: Pang! is an evening of three short plays based on the oral histories of families living with hunger in Los Angeles CA\, Miami FL and Cedar Rapids IA. Artists perform the plays amidst a forest of microphones\, sound effects props and musical instruments\, as if we are a radio theater company performing a live broadcast.   \nPANG!’s scenarios:\n \n1) A single mom and nine children are swindled into foreclosure on their Los Angeles family home of 65 years. \n2) A family makes a harrowing escape from war-torn Burundi and resettles as refugees in Eastern Iowa\, which proves traumatic in its own ways.\n\n3) A 7 year-old boy sews seeds of hope as he fantasizes his way out of a Miami neighborhood besieged by violence and beset by racist politics. \n  \nPang! Performances:  \nOctober 20-21\, 2017 at Legion Arts/CSPS Hall\, Cedar Rapids I \nDecember 1-3\, 2017 at 24th Street Theatre\, Los Angeles CA \nJanuary 26-28\, 2018 at The Light Box at Miami Light Project\, Miami FL \n(CLICK HERE FOR PRINTABLE PDF)
URL:https://challengeinequality.luskin.ucla.edu/event/pang/
LOCATION:Legion Arts\, 1103 3rd St SE\, Cedar Rapids\, IA\, 52401\, United States
ATTACH;FMTTYPE=image/png:https://challengeinequality.luskin.ucla.edu/wp-content/uploads/sites/16/2017/07/donna-reaching-header-height-adjusted.png
END:VEVENT
BEGIN:VEVENT
DTSTART;TZID=America/Los_Angeles:20171026T160000
DTEND;TZID=America/Los_Angeles:20171026T190000
DTSTAMP:20260419T183527
CREATED:20171017T202107Z
LAST-MODIFIED:20171023T222844Z
UID:10687-1509033600-1509044400@challengeinequality.luskin.ucla.edu
SUMMARY:Film Screening: We Are In It
DESCRIPTION:Thursday\, October 26\, 2017 • 314 Royce Hall • 4 PM \nFilm Screening: “We Are In It” \nBy Yehuda Sharim (Rice University) \n“We Are In It” chronicles the stories and journeys of five Houston residents and their attempt to find refuge in the American metropolis. By combining tales of deportation with everyday defeats and resilience\, the film identifies what lies beneath the surface of migrant and refugee realities and the unsettling need to move towards political and economic security. The film documents their personal archives—poetry and paintings of Baghdad\, film clips of the Burmese diaspora\, songs in Swahili—and their efforts to re-envisage a home amidst experiences of warfare\, hardship\, and alienation. Filmed over a period of two years\, the film not only sheds new light on the political climate of global migration but also speaks to universal human values of compassion and belonging. \nModerator: Todd S. Presner (UCLA) \nRespondent: Ananya Roy (UCLA) \nSponsored by the \nUCLA Alan D. Leve Center for Jewish Studies \nCosponsored by the \nInstitute on Inequality and Democracy at UCLA Luskin \nUCLA Center for the Study of International Migration \nUCLA School of Theater\, Film and Television \nUCLA Department of World Arts and Cultures/Dance \n  \nWatch Trailer 1 & Trailer 2 \n \n\nAbout the Director: \n \n\nYehuda Sharim is a scholar\, filmmaker\, and creative director of Houston in Motion: Empowering Houston Migrant and Refugee Communities\, a multi-media project that provides a window into the lives and experiences of refugee communities in Houston. “We are in it” is his directorial debut. \n\n\nDr. Sharim is currently teaching at Rice University\, serving as a Kinder Fellow in the Kinder Institute for Urban Research at Rice University. His other artistic and scholarly work explores connections between art\, poetry\, comparative migration studies\, cultural studies\, and race and ethnic studies. \n\nIn the Press:\n“A Voice for Refugees” – Rice at Large Magazine \n“In Houston\, a filmmaker tries to understand the city’s mélange of refugees” – The Urban Edge \n“A Voice for Houston’s Refugees” – Rice Magazine \n“Migrant Ironies: Migrants Hope for Life Without Limitations in Houston” – The Feminist Wire
URL:https://challengeinequality.luskin.ucla.edu/event/film-screening-we-are-in-it/
LOCATION:Royce Hall 314\, 340 Royce Drive\, Los Angeles \, 90095\, United States
ATTACH;FMTTYPE=image/jpeg:https://challengeinequality.luskin.ucla.edu/wp-content/uploads/sites/16/2017/10/We-Are-In-It-10.26.jpg
END:VEVENT
END:VCALENDAR