BEGIN:VCALENDAR
VERSION:2.0
PRODID:-//Challenge Inequality - ECPv6.15.4//NONSGML v1.0//EN
CALSCALE:GREGORIAN
METHOD:PUBLISH
X-WR-CALNAME:Challenge Inequality
X-ORIGINAL-URL:https://challengeinequality.luskin.ucla.edu
X-WR-CALDESC:Events for Challenge Inequality
REFRESH-INTERVAL;VALUE=DURATION:PT1H
X-Robots-Tag:noindex
X-PUBLISHED-TTL:PT1H
BEGIN:VTIMEZONE
TZID:America/Los_Angeles
BEGIN:DAYLIGHT
TZOFFSETFROM:-0800
TZOFFSETTO:-0700
TZNAME:PDT
DTSTART:20180311T100000
END:DAYLIGHT
BEGIN:STANDARD
TZOFFSETFROM:-0700
TZOFFSETTO:-0800
TZNAME:PST
DTSTART:20181104T090000
END:STANDARD
END:VTIMEZONE
BEGIN:VEVENT
DTSTART;VALUE=DATE:20180201
DTEND;VALUE=DATE:20180202
DTSTAMP:20260419T114624
CREATED:20180116T235431Z
LAST-MODIFIED:20180116T235741Z
UID:11354-1517443200-1517529599@challengeinequality.luskin.ucla.edu
SUMMARY:Call for Papers DEADLINE — Race & Capitalism Graduate Student Conference
DESCRIPTION:For the first Race and Capitalism Graduate Student Conference\, the Center for the Study of Race\, Politics and Culture (CSRPC) at the University of Chicago invites submissions from graduate students working on questions and on topics related more broadly to racial capitalism. They are particularly interested in work that discusses theories of racial capitalism (either with regards to intellectual history or with regards to contemporary fit and theoretical coherence)\, the gendered aspects of racial capitalism\, racial capitalism & migration and racial capitalism & the rise of finance. The conference will also provide a chance for graduate students working on racial capitalism to connect with each other and the national Race and Capitalism Project. \nThe deadline to submit an abstract is February 1\, 2018. To apply\, please submit an abstract of 500 words or less\, and complete this form. \nAbout the Race and Capitalism Project \nThe Race and Capitalism Project Graduate Conference is part of the Race and Capitalism project initiated by the Center for the Study of Race\, Politics and Culture (CSRPC) at the University of Chicago. It seeks to provide a platform for graduate students interested in the topic to exchange ideas and connect. The Race and Capitalism project is a multi-institution collaboration that seeks to reinvigorate\, strengthen and deepen scholarship on how processes of racialization within the U.S. shaped capitalist society and economy and how capitalism has simultaneously shaped processes of racialization. This project was initiated and conceived at the CSRPC and the Washington Institute for the Study of Inequality and Race (WISIR) at the University of Washington. Central questions include: 1) What is the relationship between racial and economic inequality; 2) How has the relationship between various racial and ethnic groups\, the economy and civil society changed over time; and 3) What theoretical approaches to the studies of capitalism and race best explain the empirical reality of 21st century capitalism.
URL:https://challengeinequality.luskin.ucla.edu/event/call-papers-deadline-race-capitalism-graduate-student-conference/
LOCATION:University of Chicago\, 5733 S. University Ave.\, Chicago\, IL\, 60637\, United States
ATTACH;FMTTYPE=image/png:https://challengeinequality.luskin.ucla.edu/wp-content/uploads/sites/16/2018/01/Logo.png
END:VEVENT
BEGIN:VEVENT
DTSTART;TZID=America/Los_Angeles:20180208T190000
DTEND;TZID=America/Los_Angeles:20180208T210000
DTSTAMP:20260419T114624
CREATED:20180305T235823Z
LAST-MODIFIED:20180305T235823Z
UID:11604-1518116400-1518123600@challengeinequality.luskin.ucla.edu
SUMMARY:Why History Matters: Why Black Women’s Lives Matter
DESCRIPTION:WHY HISTORY MATTERS\nWhy Black Women’s Lives and Histories Matter \n\nThursday\, February 8\, 2018\n7:00 p.m.\nFowler Museum at UCLA\, Lenart Auditorium\nSelf-pay parking available in Structure 4 \n \nFunmilola Fagbamila\nAdjunct Professor\, Department of Pan-African Studies\nCalifornia State University\, Los Angeles\n2017 Activist-in-Residence with the Institute on Inequality and Democracy at UCLA Luskin \nDion Fountaine Raymond\, J.D.\nDiscrimination Prevention Officer and Coordinator\nUCLA Office of Equity\, Diversity and Inclusion \nBrenda Stevenson\nProfessor and Nickoll Family Endowed Chair in History\nUCLA Department of History \nmoderated by\nMarcus Anthony Hunter\nScott Waugh Endowed Chair in the Division of the Social Sciences\nAssociate Professor and Chair\nUCLA Department of African American Studies
URL:https://challengeinequality.luskin.ucla.edu/event/history-matters-black-womens-lives-matter/
LOCATION:UCLA Harry and Yvonne Lenart Auditorium\, Fowler Museum\, 308 Charles E Young Dr N\, Los Angeles \, 90024\, United States
ATTACH;FMTTYPE=image/png:https://challengeinequality.luskin.ucla.edu/wp-content/uploads/sites/16/2018/03/Why-History-Matters-2.8.18-banner.png
END:VEVENT
BEGIN:VEVENT
DTSTART;TZID=America/Los_Angeles:20180212T120000
DTEND;TZID=America/Los_Angeles:20180212T140000
DTSTAMP:20260419T114624
CREATED:20180201T182859Z
LAST-MODIFIED:20180201T183308Z
UID:11402-1518436800-1518444000@challengeinequality.luskin.ucla.edu
SUMMARY:Support for Black Reparations in the Early 21st Century
DESCRIPTION:Support for Black Reparations in the Early 21st Century\nTalk by Michael Dawson \nJohn D. MacArthur Professor of Political Science and the College\nThe University of Chicago \n \nMonday\, February 12\, 2018\n12 p.m.–2 p.m.\nBlack Forum 153\, UCLA Haines Hall \nLunch will be provided. \n\nMichael C. Dawson is the John D. MacArthur Professor of Political Science and the College at the University of Chicago. He has also taught at the University of Michigan and Harvard University. Dawson received his BA with High Honors from Berkeley in 1982 and doctorate degree from Harvard University in 1986. Professor Dawson was co-principal investigator of the 1988 National Black Election Study and was principal investigator with Ronald Brown of the 1993-1994 National Black Politics Study. \nHis research interests have included the development of quantitative models of African American political behavior\, identity\, and public opinion\, the political effects of urban poverty\, and African American political ideology. This work also includes delineating the differences in African American public opinion from those of white Americans. More recently he has combined his quantitative work with work in political theory. \nHis previous two books\, Behind the Mule: Race and Class in African-American Politics (Princeton 1994) and Black Visions: The Roots of Contemporary African-American Political Ideologies(Chicago 2001)\, won multiple awards\, including Black Visionswinning the prestigious Ralph Bunche Award from the American Political Science Association. Dawson has also published numerous journal articles\, book chapters and opinion pieces. Dawson’s strong interest in the impact of the information technology revolution on society and politics\, as well as his research on race are both fueled in part from his time spent as an activist while studying and working in Silicon Valley for several years. Dawson is currently finishing an edited volume\, Fragmented Rainbow\, on race and civil society in the United States as well as a solo volume\, Black Politics in the Early 21st Century. \nHe is with Lawrence Bobo\, the founding co-editor of the journal The Du Bois Review (Cambridge University Press)\, as well as being the founding director of the Center for the Study of Race\, Politics and Culture at the University of Chicago. Dawson has also served as the Chair of the Political Science Department of the University of Chicago. Among other duties Dawson was elected to the Board of the Social Science Research Council and the American Academy of Arts and Sciences in 2006. Dawson has been interviewed extensively by the print and broadcast media including the Washington Post\, The Economist Magazine\, The Los Angeles Times\, New York Times\, Chicago Tribune\, NPR\, CNN\, BET\, and ABC News. Dawson is also a regular commentator at TheRoot.com. \nSelected Publications: \n\nBlacks In and Out of the Left: Past\, Present\, and Future (Harvard University Press\, 2013).\nNot in Our Lifetimes: The Future of Black Politics (University of Chicago Press\, 2011).\nBlack Visions: The Roots of Contemporary African-American Ideologies (University of Chicago Press\, 2001).\nBehind the Mule: Race and Class in African-American Politics(Princeton University Press\, 1994).
URL:https://challengeinequality.luskin.ucla.edu/event/support-black-reparations-early-21st-century/
LOCATION:Black Forum 153\, UCLA Haines Hall\, 375 Portola Plaza\, Los Angeles\, CA\, 90095\, United States
ATTACH;FMTTYPE=image/png:https://challengeinequality.luskin.ucla.edu/wp-content/uploads/sites/16/2018/02/AfricanAmericanStudiesDept-with-white-background-smaller-1.png
END:VEVENT
BEGIN:VEVENT
DTSTART;TZID=America/Los_Angeles:20180213T183000
DTEND;TZID=America/Los_Angeles:20180213T200000
DTSTAMP:20260419T114624
CREATED:20180207T224658Z
LAST-MODIFIED:20180208T183947Z
UID:11461-1518546600-1518552000@challengeinequality.luskin.ucla.edu
SUMMARY:At the Limits of Urban Theory: Racial Banishment in the Contemporary City
DESCRIPTION:Hosted by LSE Cities\nSHEIKH ZAYED THEATRE\, NEW ACADEMIC BUILDING \nIn cities around the world\, especially in the United States\, processes of socio-spatial restructuring continue to unfold. Often understood as neoliberal urbanism and often identified through concepts such as gentrification\, these processes entail the displacement of subaltern classes to the far edges of urban life. In this talk\, Ananya Roy argues that it is necessary to analyse such transformations through a theorisation of racial capitalism. \nIn particular\, she draws on research conducted by scholars and social movements in Los Angeles to delineate processes of racial banishment. In doing so\, Roy argues that the standard conceptual repertoire of urban studies is ill-equipped to study such processes. In particular\, influential explanations that invoke neoliberalisation often miss the long histories of dispossession and disposability that are being remade in the contemporary city. Put another way\, she makes the case for how urban studies must contend with legacies of white liberalism and the elision of the race question. Relying on both postcolonial theory and the black radical tradition\, Roy demonstrates that what is at stake is not only a more robust analysis of urbanism but also attention to the various forms of movement and mobilisation that are challenging racial banishment. \nAnanya Roy (@ananyaUCLA) is Professor of Urban Planning\, Social Welfare and Geography and inaugural Director of the Institute on Inequality and Democracy at UCLA Luskin. She holds The Meyer and Renee Luskin Chair in Inequality and Democracy. \n  \nRicky Burdett (@BURDETTR) is Professor of Urban Studies at the LSE and Director of LSE Cities and the Urban Age Programme. He was curator of the Conflicts of an Urban Age exhibition at the 2016 International Architecture Biennale in Venice and contributed to the United Nations Habitat III conference on sustainable urbanisation in Quito. \nLSE Cities (@LSECities) is an international centre at the London School of Economics and Political Science that carries out research\, graduate and executive education and outreach activities in London and abroad. Its mission is to study how people and cities interact in a rapidly urbanising world\, focussing on how the design of cities impacts on society\, culture and the environment. \nTwitter Hashtag for this event: #LSEAnanyaRoy \nThis event is free and open to all. However\, a ticket is required\, only one ticket per person can be requested. \n\nThis event will be webcast live on the LSE website on LSE LIVE.
URL:https://challengeinequality.luskin.ucla.edu/event/at-the-limits-of-urban-theory/
LOCATION:Sheikh Zayed Theatre\, New Academic Building\, London School of Economics and Political Science\, Houghton St\, London WC2A 2AE\, United Kingdom
ATTACH;FMTTYPE=image/png:https://challengeinequality.luskin.ucla.edu/wp-content/uploads/sites/16/2018/02/At-the-Limits-of-Urban-Theory-BIGGER-7.png
END:VEVENT
BEGIN:VEVENT
DTSTART;TZID=America/Los_Angeles:20180214T121000
DTEND;TZID=America/Los_Angeles:20180214T133000
DTSTAMP:20260419T114624
CREATED:20180205T205832Z
LAST-MODIFIED:20180205T205832Z
UID:11426-1518610200-1518615000@challengeinequality.luskin.ucla.edu
SUMMARY:From the NFL to the Crenshaw Line: Black Workers Matter
DESCRIPTION:Presented by the Critical Race Studies Program and the Black Law Students Association \nPanelists: \nLola Smallwood-Cuevas\, Founder and Director\, Los Angeles Black Worker Center \nDelvin Turner\, UCLA Law Class of 2019 \nNoah D. Zatz\, Professor of Law\, UCLA School of Law \nModerator: \nCheryl I. Harris\, Rosalinde and Arthur Gilbert Professor in Civil Rights and Civil Liberties; Faculty Director\, Critical Race Studies Program\, UCLA School of Law \nLunch will be provided for those who RSVP.
URL:https://challengeinequality.luskin.ucla.edu/event/nfl-crenshaw-line-black-workers-matter/
LOCATION:UCLA School of Law\, Room 1347\, 385 Charles E Young Dr East\, Los Angeles \, CA\, 90095\, United States
ATTACH;FMTTYPE=image/jpeg:https://challengeinequality.luskin.ucla.edu/wp-content/uploads/sites/16/2018/02/From-the-NFL-to-the-Crenshaw-Line-Black-Workers-Matter.jpg
END:VEVENT
BEGIN:VEVENT
DTSTART;TZID=America/Los_Angeles:20180222T180000
DTEND;TZID=America/Los_Angeles:20180222T200000
DTSTAMP:20260419T114624
CREATED:20180216T225648Z
LAST-MODIFIED:20180216T225648Z
UID:11537-1519322400-1519329600@challengeinequality.luskin.ucla.edu
SUMMARY:Plans for Freedom: Sanctuary\, Abolition\, and Reconstruction in the Age of Trumpism
DESCRIPTION: Thursday\, February 22\, 2018 at 6:00pm to 8:00pm \n Building 7\, 429\n77 MASSACHUSETTS AVE\, Cambridge\, MA 02139 \n\nMIT Department of Architecture / Spring 2018 Lecture Series\nOrganized with MIT Chapter of the National Organization of Minority Architecture Students (NOMAS) \nThe Trump presidency has brought to sharp light the enduring racial inequalities through which liberal democracy is constituted and lived.  In this talk\, Ananya Roy examines imaginations and practices of resistance\, from sanctuary cities to professional refusal\, against regimes of white nationalism. But she also places the present historical conjuncture in the broader history of racial capitalism and return to the “freedom dreams” of black reconstruction and the project of abolitionism. Roy argues that our disciplines and professions have a role to play in such plans of freedom. \n\nAnanya Roy is Professor of Urban Planning\, Social Welfare\, and Geography and founding Director of the Institute on Inequality and Democracy at the University of California\, Los Angeles where she holds the Renee and Meyer Luskin Chair in Inequality and Democracy.  Previously she was on the faculty at the College of Environmental Design at UC Berkeley.  Ananya’s research and scholarship has a determined focus on poverty and inequality and lies in four domains: how the urban poor in cities from Kolkata to Chicago face and fight eviction\, foreclosure\, and displacement; how global financialization\, working in varied realms from microfinance to real-estate speculation\, creates new markets in debt and risk; how the efforts to manage and govern the problem of poverty reveal the contradictions and limits of liberal democracy; how new programs of welfare and human development are being demanded and made in the global South. Ananya is the author of several books including Poverty Capital: Microfinance and the Making of Development (Routledge\, 2010)\, which received the Paul Davidoff book award from ACSP.  Her most recent book is Encountering Poverty: Thinking and Acting in an Unequal World (UC Press\, 2016).  During the last year\, Ananya’s public scholarship has challenged white supremacy and white power.  From the short video\, “3 Truths About Trumpism\,” to the organization of a nationwide day of Teach.Organize.Resist\, her work mobilizes the power of knowledge to divest from whiteness.
URL:https://challengeinequality.luskin.ucla.edu/event/plans-freedom-sanctuary-abolition-reconstruction-age-trumpism/
LOCATION:William Barton Rogers Building\, MIT\, 77 Massachusetts Ave.\, Cambridge\, Massachusetts\, 02139
ATTACH;FMTTYPE=image/jpeg:https://challengeinequality.luskin.ucla.edu/wp-content/uploads/sites/16/2018/02/MG_0147-e1518821739316.jpg
END:VEVENT
BEGIN:VEVENT
DTSTART;TZID=America/Los_Angeles:20180226T123000
DTEND;TZID=America/Los_Angeles:20180226T140000
DTSTAMP:20260419T114624
CREATED:20180226T210712Z
LAST-MODIFIED:20180226T211525Z
UID:11556-1519648200-1519653600@challengeinequality.luskin.ucla.edu
SUMMARY:Protecting Renters: Discussions of Rent Control\, Stabilization\, and Evictions
DESCRIPTION:California’s housing crisis is hitting renters hard. With rents fast increasing in Los Angeles\, many people are scared. Whether they fear rent increases that push housing costs out of reach or being scared that improvements to the building mean a rent increase is imminent\, the rental market can be scary. California is known for strong tenant protections\, but existing state laws like the Ellis Act (evicting tenants to convert buildings to ownership) or Costa-Hawkins Act (not allowing new construction to be under rent control) weakens these tenant protections. What’s the appetite for reforming these laws? How are they currently affecting residents in Los Angeles? What can be done to put renters in Los Angeles on a more stable foundation? \nSpeakers: \nJoan Ling\, UCLA Luskin School of Public Affairs \nTony Samara\, Urban Habitat \nDoug Smith\, Public Counsel \nModerator: \nMike Lens\, UCLA Luskin School of Public Affairs \nLunch will be provided. \nLivestream available here.
URL:https://challengeinequality.luskin.ucla.edu/event/protecting-renters/
LOCATION:UCLA Luskin School of Public Affairs\, Room 2343\, 337 Charles E. Young Drive East\, Los Angeles\, CA\, 90095-1656\, United States
ATTACH;FMTTYPE=image/png:https://challengeinequality.luskin.ucla.edu/wp-content/uploads/sites/16/2018/02/protecting-renters-banner.png
END:VEVENT
END:VCALENDAR