BEGIN:VCALENDAR
VERSION:2.0
PRODID:-//Challenge Inequality - ECPv6.15.4//NONSGML v1.0//EN
CALSCALE:GREGORIAN
METHOD:PUBLISH
X-ORIGINAL-URL:https://challengeinequality.luskin.ucla.edu
X-WR-CALDESC:Events for Challenge Inequality
REFRESH-INTERVAL;VALUE=DURATION:PT1H
X-Robots-Tag:noindex
X-PUBLISHED-TTL:PT1H
BEGIN:VTIMEZONE
TZID:America/Los_Angeles
BEGIN:DAYLIGHT
TZOFFSETFROM:-0800
TZOFFSETTO:-0700
TZNAME:PDT
DTSTART:20180311T100000
END:DAYLIGHT
BEGIN:STANDARD
TZOFFSETFROM:-0700
TZOFFSETTO:-0800
TZNAME:PST
DTSTART:20181104T090000
END:STANDARD
END:VTIMEZONE
BEGIN:VEVENT
DTSTART;TZID=America/Los_Angeles:20180803T190000
DTEND;TZID=America/Los_Angeles:20180803T210000
DTSTAMP:20260419T163618
CREATED:20180730T210809Z
LAST-MODIFIED:20180730T210809Z
UID:12173-1533322800-1533330000@challengeinequality.luskin.ucla.edu
SUMMARY:Passing Through Movie Screening - LA Poverty Department
DESCRIPTION:  \nSkid Row Musuem\n“Passing Through” – Directed by Leslie Dektor and produced by Tom MacMaster\nQ&A with Manuel Compito\, Leslie Dektor and Tom MacMaster and others. \nThis beautiful movie is back because of popular demand: COME SEE IT IF YOU HAVEN’T HAD THE CHANCE YET! \nLos Angeles Poverty Department’s Movie Nights at the Museum:\nFree movie screenings\, free popcorn\, free coffee & free conversation. Every 1st and 3rd Friday of the month\, we screen movies about issues that are important to our Skid Row and downtown community at the #skidrowmuseum. \nPassing Through focuses on an art studio that was initially launched in Los Angeles’s Skid Row that\, for years\, offered the disenfranchised an opportunity to discover their creative voice and the dispossessed a sense of belonging. For decades\, the poor and marginalized have been herded and confined to Skid Row but many found refuge\, comfort and even a path to a new life there. \nLeslie Dektor\, a 2-time winner and 13-time nominee of the DGA Director of the Year Award\, was inspired to embark upon Passing Through in part due to the research he’d been doing for a film on the Great Depression. Dektor saw parallels between the subjects in those photos and the poor and dispossessed in Los Angeles while also recognizing the power of art to bring light and hope to the darkest times. \nProceeds from Passing Through will be donated to the Art Works Continuum as well as other organizations that serve the unhoused population and support the arts in Los Angeles. \nPlease visit our website for more information: https://www.passingthroughfilm.com/\nPre-Order available on iTunes : https://apple.co/2F9X4ee \nManuel Compito aka OG Man is a Homeless Advocate and Community Organizer\, an author and highly skilled and gifted Fine Artist. He is a husband\, father and grandfather. He has been featured in several documentaries including “Lost Angels\,” “Humble Beauty\,” and “Passing Through” as well as numerous other documentaries available on YouTube which feature his works.\nManuel learned to draw as a child from his brother. He would later spend a considerable amount of time cultivating his talents during a lengthy period of incarceration. Even today\, Manuel’s artwork derives from sketches based on his visual life experiences. Art serves as the nexus of his ideas\, projects\, programs and writings. “Art is my passion. Being of Service is my calling. Skid Row is ‘Ground Zero’ when it comes to community organizing. It’s the right place and the right time for those who want to make a difference.” says Manuel Compito.\nThis mindset has been the motivating force which led to Manuel’s creation of the award-winning Skid Row 3on3 Streetball League\, grass-roots organizations such OG’s N Service Association\, Skid Row Brigade\, Operation Facelift-SkidRow\, Skid Row Artist Collective aka Hidden Treasures and “Peace- N-Hood\,” a neo-novel and coloring book for the urban area. \n 
URL:https://challengeinequality.luskin.ucla.edu/event/passing-through-movie-screening-la-poverty-department/
LOCATION:Skid Row History Museum & Archive\, 250 S Broadway\, Los Angeles\, CA\, United States
ATTACH;FMTTYPE=image/jpeg:https://challengeinequality.luskin.ucla.edu/wp-content/uploads/sites/16/2018/07/PASSING-THROUGH-COVER-PHOTO.jpg
END:VEVENT
BEGIN:VEVENT
DTSTART;TZID=America/Los_Angeles:20180817T190000
DTEND;TZID=America/Los_Angeles:20180817T210000
DTSTAMP:20260419T163618
CREATED:20180730T211416Z
LAST-MODIFIED:20180730T211416Z
UID:12189-1534532400-1534539600@challengeinequality.luskin.ucla.edu
SUMMARY:Los Angeles Poverty Department’s Movie Nights at the Museum
DESCRIPTION:Screening: Brooklyn Castle (2012) 101 min.\, Directed By Katie Dellamaggiore\nProduced by Colin Davis\, Nelson Dellamaggiore\, Brian Schulz\, and Katie Dellamaggiore\n\nFree movie screenings\, free popcorn\, free coffee & free conversation. Every 1st and 3rd Friday of the month\, we screen movies about issues that are important to our Skid Row and downtown community at the #skidrowmuseum.\n\nSynopsis: Amidst financial crises and unprecedented public school budget cuts\, Brooklyn Castle takes an intimate look at the challenges and triumphs facing members of a junior high school’s champion chess team.\n\nLocation: Skid Row History Museum and Archive\, 250 S. Broadway\, Los Angeles\, CA 90012 \n 
URL:https://challengeinequality.luskin.ucla.edu/event/los-angeles-poverty-departments-movie-nights-at-the-museum/
LOCATION:Skid Row History Museum & Archive\, 250 S Broadway\, Los Angeles\, CA\, United States
ATTACH;FMTTYPE=image/jpeg:https://challengeinequality.luskin.ucla.edu/wp-content/uploads/sites/16/2018/07/Brooklyn-Castle-e1532685009307.jpg
END:VEVENT
END:VCALENDAR